BEGIN:VCALENDAR
VERSION:2.0
PRODID:-//ChamberMaster//Event Calendar 2.0//EN
METHOD:PUBLISH
X-PUBLISHED-TTL:P3D
REFRESH-INTERVAL:P3D
CALSCALE:GREGORIAN
BEGIN:VEVENT
DTSTART:20200814T143000Z
DTEND:20200814T150000Z
X-MICROSOFT-CDO-ALLDAYEVENT:FALSE
SUMMARY:Midland University Miller Hall Ribbon Cutting Facebook Live
DESCRIPTION:
X-ALT-DESC;FMTTYPE=text/html:
LOCATION:
UID:e.881.14862
SEQUENCE:3
DTSTAMP:20260424T025949Z
URL:https://chamber.fremontne.org/events/details/midland-university-miller-hall-ribbon-cutting-facebook-live-14862
END:VEVENT

END:VCALENDAR
