BEGIN:VCALENDAR
VERSION:2.0
PRODID:-//ChamberMaster//Event Calendar 2.0//EN
METHOD:PUBLISH
X-PUBLISHED-TTL:P3D
REFRESH-INTERVAL:P3D
CALSCALE:GREGORIAN
BEGIN:VEVENT
DTSTART:20210319T000000Z
DTEND:20210319T020000Z
X-MICROSOFT-CDO-ALLDAYEVENT:FALSE
SUMMARY:Midland University Vocal Music Concert
DESCRIPTION:Come support the Midland Vocal Choir as they put on their spring performance!
X-ALT-DESC;FMTTYPE=text/html:Come support the Midland Vocal Choir as they put on their spring performance!<gdiv></gdiv>
LOCATION:
UID:e.881.14970
SEQUENCE:3
DTSTAMP:20260425T192618Z
URL:https://chamber.fremontne.org/events/details/midland-university-vocal-music-concert-14970
END:VEVENT

END:VCALENDAR
