BEGIN:VCALENDAR
VERSION:2.0
PRODID:-//ChamberMaster//Event Calendar 2.0//EN
METHOD:PUBLISH
X-PUBLISHED-TTL:P3D
REFRESH-INTERVAL:P3D
CALSCALE:GREGORIAN
BEGIN:VEVENT
DTSTART:20181027T200000Z
DTEND:20181027T220000Z
X-MICROSOFT-CDO-ALLDAYEVENT:FALSE
SUMMARY:Midland University Volleyball Game Vs. Concordia University
DESCRIPTION:Come cheer on the Midland University Warriors as they take on Concordia University.
X-ALT-DESC;FMTTYPE=text/html:Come cheer on the Midland University Warriors as they take on Concordia University.&nbsp\;
LOCATION:Midland University's Wikert Event Center- North Clarkson Street
UID:e.881.14275
SEQUENCE:3
DTSTAMP:20260422T074242Z
URL:https://chamber.fremontne.org/events/details/midland-university-volleyball-game-vs-concordia-university-14275
END:VEVENT

END:VCALENDAR
