BEGIN:VCALENDAR
VERSION:2.0
PRODID:-//ChamberMaster//Event Calendar 2.0//EN
METHOD:PUBLISH
X-PUBLISHED-TTL:P3D
REFRESH-INTERVAL:P3D
CALSCALE:GREGORIAN
BEGIN:VEVENT
DTSTART:20181025T003000Z
DTEND:20181025T023000Z
X-MICROSOFT-CDO-ALLDAYEVENT:FALSE
SUMMARY:Midland University Volleyball Vs. College of Saint Mary
DESCRIPTION:Come cheer on the Midland University Warriors as they take on College of Saint Mary on Octboer 24 during their Cancer Awareness game and Senior Night.
X-ALT-DESC;FMTTYPE=text/html:Come cheer on the Midland University Warriors as they take on College of Saint Mary on Octboer 24 during their Cancer Awareness game and Senior Night.
LOCATION:Midland University's Wikert Event Center- North Clarkson Street
UID:e.881.14274
SEQUENCE:3
DTSTAMP:20260422T074320Z
URL:https://chamber.fremontne.org/events/details/midland-university-volleyball-vs-college-of-saint-mary-10-24-2018-14274
END:VEVENT

END:VCALENDAR
