BEGIN:VCALENDAR
VERSION:2.0
PRODID:-//ChamberMaster//Event Calendar 2.0//EN
METHOD:PUBLISH
X-PUBLISHED-TTL:P3D
REFRESH-INTERVAL:P3D
CALSCALE:GREGORIAN
BEGIN:VEVENT
DTSTART:20201001T003000Z
DTEND:20201001T020000Z
X-MICROSOFT-CDO-ALLDAYEVENT:FALSE
SUMMARY:Midland Volleyball @ Concordia University
DESCRIPTION:Go watch as the Warriors take on the Bulldogs in Seward\, NE!
X-ALT-DESC;FMTTYPE=text/html:Go watch as the Warriors take on the Bulldogs in Seward\, NE!
LOCATION:
UID:e.881.14890
SEQUENCE:3
DTSTAMP:20260423T154657Z
URL:https://chamber.fremontne.org/events/details/midland-volleyball-concordia-university-14890
END:VEVENT

END:VCALENDAR
