BEGIN:VCALENDAR
VERSION:2.0
PRODID:-//ChamberMaster//Event Calendar 2.0//EN
METHOD:PUBLISH
X-PUBLISHED-TTL:P3D
REFRESH-INTERVAL:P3D
CALSCALE:GREGORIAN
BEGIN:VEVENT
DTSTART:20190817T223000Z
DTEND:20190818T003000Z
X-MICROSOFT-CDO-ALLDAYEVENT:FALSE
SUMMARY:Midland Volleyball vs Briar Cliff
DESCRIPTION:Cheer on the Midland Volleyball team as they face off against Briair Cliff
X-ALT-DESC;FMTTYPE=text/html:Cheer on the Midland Volleyball team as they face off against Briair Cliff&nbsp\;
LOCATION:Wikert Event Center
UID:e.881.14587
SEQUENCE:3
DTSTAMP:20260421T183720Z
URL:https://chamber.fremontne.org/events/details/midland-volleyball-vs-briar-cliff-14587
END:VEVENT

END:VCALENDAR
