BEGIN:VCALENDAR
VERSION:2.0
PRODID:-//ChamberMaster//Event Calendar 2.0//EN
METHOD:PUBLISH
X-PUBLISHED-TTL:P3D
REFRESH-INTERVAL:P3D
CALSCALE:GREGORIAN
BEGIN:VEVENT
DTSTART:20190905T003000Z
DTEND:20190905T023000Z
X-MICROSOFT-CDO-ALLDAYEVENT:FALSE
SUMMARY:Midland Volleyball vs Doane
DESCRIPTION:Help us cheer on our Warriors Volleyball team as they play our rivals Doane
X-ALT-DESC;FMTTYPE=text/html:Help us cheer on our Warriors Volleyball team as they play our rivals Doane&nbsp\;
LOCATION:Wikert Event Center
UID:e.881.14600
SEQUENCE:3
DTSTAMP:20260421T171828Z
URL:https://chamber.fremontne.org/events/details/midland-volleyball-vs-doane-14600
END:VEVENT

END:VCALENDAR
