BEGIN:VCALENDAR
VERSION:2.0
PRODID:-//ChamberMaster//Event Calendar 2.0//EN
METHOD:PUBLISH
X-PUBLISHED-TTL:P3D
REFRESH-INTERVAL:P3D
CALSCALE:GREGORIAN
BEGIN:VEVENT
DTSTART:20190822T000000Z
DTEND:20190822T020000Z
X-MICROSOFT-CDO-ALLDAYEVENT:FALSE
SUMMARY:Midland Warriors Volleyball vs Peru State
DESCRIPTION:Help us cheer on the Warriors Volleyball team as they take on Peru State
X-ALT-DESC;FMTTYPE=text/html:Help us cheer on the Warriors Volleyball team as they take on Peru State
LOCATION:Wikert Event Center
UID:e.881.14592
SEQUENCE:3
DTSTAMP:20260421T183456Z
URL:https://chamber.fremontne.org/events/details/midland-warriors-volleyball-vs-peru-state-14592
END:VEVENT

END:VCALENDAR
