BEGIN:VCALENDAR
VERSION:2.0
PRODID:-//ChamberMaster//Event Calendar 2.0//EN
METHOD:PUBLISH
X-PUBLISHED-TTL:P3D
REFRESH-INTERVAL:P3D
CALSCALE:GREGORIAN
BEGIN:VEVENT
DTSTART:20191026T190000Z
DTEND:20191026T220000Z
X-MICROSOFT-CDO-ALLDAYEVENT:FALSE
SUMMARY:Midland Women's Swimming vs Iowa Lakes CC & Tabor College
DESCRIPTION:Midland Women's Swimming vs Iowa Lakes CC & Tabor College
X-ALT-DESC;FMTTYPE=text/html:Midland Women&#39\;s Swimming vs Iowa Lakes CC &amp\; Tabor College
LOCATION:Dillon Family Aquatic Center
UID:e.881.14660
SEQUENCE:3
DTSTAMP:20260421T160917Z
URL:https://chamber.fremontne.org/events/details/midland-women-s-swimming-vs-iowa-lakes-cc-tabor-college-14660
END:VEVENT

END:VCALENDAR
