BEGIN:VCALENDAR
VERSION:2.0
PRODID:-//ChamberMaster//Event Calendar 2.0//EN
METHOD:PUBLISH
X-PUBLISHED-TTL:P3D
REFRESH-INTERVAL:P3D
CALSCALE:GREGORIAN
BEGIN:VEVENT
DTSTART:20191102T200000Z
DTEND:20191102T230000Z
X-MICROSOFT-CDO-ALLDAYEVENT:FALSE
SUMMARY:Midland Women's Swimming vs Olivet Nazarene & College of Saint Mary
DESCRIPTION:Midland Women's Swimming vs Olivet Nazarene & College of Saint Mary
X-ALT-DESC;FMTTYPE=text/html:Midland Women&#39\;s Swimming vs Olivet Nazarene &amp\; College of Saint Mary
LOCATION:Dillon Family Aquatic Center
UID:e.881.14661
SEQUENCE:3
DTSTAMP:20260421T161120Z
URL:https://chamber.fremontne.org/events/details/midland-women-s-swimming-vs-olivet-nazarene-college-of-saint-mary-14661
END:VEVENT

END:VCALENDAR
