BEGIN:VCALENDAR
VERSION:2.0
PRODID:-//ChamberMaster//Event Calendar 2.0//EN
METHOD:PUBLISH
X-PUBLISHED-TTL:P3D
REFRESH-INTERVAL:P3D
CALSCALE:GREGORIAN
BEGIN:VEVENT
DTSTART:20181003T230000Z
DTEND:20181004T010000Z
X-MICROSOFT-CDO-ALLDAYEVENT:FALSE
SUMMARY:Nebraska Department of Insurance Listening Session
DESCRIPTION:The Nebraska Department of Insurance is coming to Fremont on October 3rd to discuss insurance issues with Nebraskans in a town hall forum at the Holiday Inn Express\, 2415 N. Lincoln Ave (meeting room A). If you are interested\, here is some information regarding insurance that we'll be discussing:   The current status of the Affordable Care Act and other health care options   The health insurance market and 2018 premiums   Changes to Medicare that are coming in 2020   Preventative care coverage   Mental Health Parity   Property and Casualty Insurance   The appeals process for denied health claims and external review If you need more information\, please do not hesitate to contact me. Our official press release can be found below. Thank you! https://doi.nebraska.gov/sites/doi.nebraska.gov/files/doc/NR1802.pdf
X-ALT-DESC;FMTTYPE=text/html:The Nebraska Department of Insurance is coming to Fremont on October 3rd to discuss insurance issues with Nebraskans in a town hall forum at the Holiday Inn Express\, 2415 N. Lincoln Ave (meeting room A). If you are interested\, here is some information regarding insurance that we&rsquo\;ll be discussing: &bull\; The current status of the Affordable Care Act and other health care options &bull\; The health insurance market and 2018 premiums &bull\; Changes to Medicare that are coming in 2020 &bull\; Preventative care coverage &bull\; Mental Health Parity &bull\; Property and Casualty Insurance &bull\; The appeals process for denied health claims and external review If you need more information\, please do not hesitate to contact me. Our official press release can be found below. Thank you! https://doi.nebraska.gov/sites/doi.nebraska.gov/files/doc/NR1802.pdf
LOCATION:Holiday Inn Express
UID:e.881.14265
SEQUENCE:3
DTSTAMP:20260422T085750Z
URL:https://chamber.fremontne.org/events/details/nebraska-department-of-insurance-listening-session-14265
END:VEVENT

END:VCALENDAR
