BEGIN:VCALENDAR
VERSION:2.0
PRODID:-//ChamberMaster//Event Calendar 2.0//EN
METHOD:PUBLISH
X-PUBLISHED-TTL:P3D
REFRESH-INTERVAL:P3D
CALSCALE:GREGORIAN
BEGIN:VEVENT
DTSTART:20250221T150000Z
DTEND:20250221T160000Z
X-MICROSOFT-CDO-ALLDAYEVENT:FALSE
SUMMARY:Nebraska Realty Ribbon Cutting
DESCRIPTION:Nebraska Realty Ribbon Cutting\n\n Celebrate with Us at the Nebraska Realty \n\nWe're thrilled to officially open our doors to the Fremont community! Join us for a morning of celebration as we cut the ribbon and share how Nebraska Realty is here to serve your real estate needs.\n\n  Date: Friday\, February 21st\n\n  Time: 9:00 AM - 10:00 AM\n\n  Location: 340 E Military Ave\, Suite 2\, Fremont\, NE\n\nBring your friends\, family\, and neighbors to tour our new office\, meet our amazing team\, and learn how Nebraska Realty is ready to help you find your dream home. Let's celebrate community\, growth\, and new beginnings together!\n\nWe can't wait to welcome you to the Nebraska Realty family. See you there!
X-ALT-DESC;FMTTYPE=text/html:<p style="text-align: center\;"><span style="font-family:verdana\;"><span style="font-size:28px\;"><strong>Nebraska Realty Ribbon Cutting</strong></span><br />\n<span style="font-size:18px\;">&#127872\;Celebrate with Us at the Nebraska Realty</span></span><span style="font-family: verdana\; font-size: 18px\; text-align: center\;">&#127872\;</span></p>\n\n<p style="text-align: center\;"><span style="font-size:18px\;"><span style="font-family:verdana\;">We&rsquo\;re thrilled to officially open our doors to the Fremont community! Join us for a morning of celebration as we cut the ribbon and share how Nebraska Realty is here to serve your real estate needs.</span></span></p>\n\n<p style="text-align: center\;"><span style="font-size:18px\;"><span style="font-family:verdana\;">&#128197\; Date: Friday\, February 21st<br />\n&#9200\; Time: 9:00 AM - 10:00 AM<br />\n&#128205\; Location: 340 E Military Ave\, Suite 2\, Fremont\, NE</span></span></p>\n\n<p style="text-align: center\;"><span style="font-size:18px\;"><span style="font-family:verdana\;">Bring your friends\, family\, and neighbors to tour our new office\, meet our amazing team\, and learn how Nebraska Realty is ready to help you find your dream home. Let&rsquo\;s celebrate community\, growth\, and new beginnings together!</span></span></p>\n\n<p style="text-align: center\;"><span style="font-size:18px\;"><span style="font-family:verdana\;">We can&rsquo\;t wait to welcome you to the Nebraska Realty family. See you there! &#127969\;&#10024\;</span></span></p>\n
LOCATION:
UID:e.881.16413
SEQUENCE:3
DTSTAMP:20260421T055505Z
URL:https://chamber.fremontne.org/events/details/nebraska-realty-ribbon-cutting-16413
END:VEVENT

END:VCALENDAR
