BEGIN:VCALENDAR
VERSION:2.0
PRODID:-//ChamberMaster//Event Calendar 2.0//EN
METHOD:PUBLISH
X-PUBLISHED-TTL:P3D
REFRESH-INTERVAL:P3D
CALSCALE:GREGORIAN
BEGIN:VEVENT
DTSTART:20190728T000000Z
DTEND:20190728T020000Z
X-MICROSOFT-CDO-ALLDAYEVENT:FALSE
SUMMARY:Nebraska Strong Dance Concert
DESCRIPTION:The Midland University Dance Program is partnering with Three Hearts Dance to host Nebraska Strong- a dance concert benefiting flood relief. I hope you'll join us this Saturday\, July 27th at 7:00 PM in Kimmel Theatre.\n\n \n\nIf you have any questions\, please contact Head Dance Coach Katie Speicher at Speicher@MidlandU.edu.
X-ALT-DESC;FMTTYPE=text/html:<div style="text-align:center"><strong>The Midland University Dance Program is partnering with Three Hearts Dance to host&nbsp\;<em>Nebraska Strong</em>- a dance concert benefiting flood relief. I hope you&#39\;ll join us this Saturday\, July 27th at 7:00 PM in Kimmel Theatre.</strong></div>\n\n<div style="text-align:center">&nbsp\;</div>\n\n<div style="text-align:center"><strong>If you have any questions\, please contact Head Dance Coach Katie Speicher at Speicher@MidlandU.edu.</strong></div>\n
LOCATION:Kimmel Theatre at Midland University 900 N Clarkson Street Fremont\, NE 68025
UID:e.881.14595
SEQUENCE:3
DTSTAMP:20260421T195208Z
URL:https://chamber.fremontne.org/events/details/nebraska-strong-dance-concert-14595
END:VEVENT

END:VCALENDAR
