BEGIN:VCALENDAR
VERSION:2.0
PRODID:-//ChamberMaster//Event Calendar 2.0//EN
METHOD:PUBLISH
X-PUBLISHED-TTL:P3D
REFRESH-INTERVAL:P3D
CALSCALE:GREGORIAN
BEGIN:VEVENT
DTSTART:20200308T190000Z
DTEND:20200308T210000Z
X-MICROSOFT-CDO-ALLDAYEVENT:FALSE
SUMMARY:NOISES OFF - Midland Arts
DESCRIPTION:NOISES OFF - Midland Arts
X-ALT-DESC;FMTTYPE=text/html:NOISES OFF - Midland Arts
LOCATION:Kimmel Theater - Midland University
UID:e.881.14675
SEQUENCE:3
DTSTAMP:20260421T063037Z
URL:https://chamber.fremontne.org/events/details/noises-off-midland-arts-03-08-2020-14675
END:VEVENT

END:VCALENDAR
