BEGIN:VCALENDAR
VERSION:2.0
PRODID:-//ChamberMaster//Event Calendar 2.0//EN
METHOD:PUBLISH
X-PUBLISHED-TTL:P3D
REFRESH-INTERVAL:P3D
CALSCALE:GREGORIAN
BEGIN:VEVENT
DTSTART:20181015T140000Z
DTEND:20181015T160000Z
X-MICROSOFT-CDO-ALLDAYEVENT:FALSE
SUMMARY:Non-Profit Open House
DESCRIPTION:Join us on October 15th from 9:00AM - 11:00AM to learn more about our local non-profit partners.  Do you enjoy giving back to the community?  Would you like to volunteer for a local non-profit?  Don't miss this amazing opportunity.  Enjoy coffee\, refreshments\, and connect with the non-profit of your choice.
X-ALT-DESC;FMTTYPE=text/html:Join us on October 15th from 9:00AM - 11:00AM to learn more about&nbsp\;our local non-profit partners.&nbsp\; Do you enjoy giving back to the community?&nbsp\; Would you like to volunteer for a local non-profit?&nbsp\; Don&#39\;t miss this amazing opportunity.&nbsp\;&nbsp\;Enjoy coffee\, refreshments\, and connect with the non-profit of your choice.&nbsp\;\n<div style="text-align: justify\;">&nbsp\;</div>\n\n<p style="text-align: center\;">&nbsp\;</p>\n
LOCATION:Nye Legacy\, 3210 North Clarkson Street
UID:e.881.14244
SEQUENCE:3
DTSTAMP:20260422T090047Z
URL:https://chamber.fremontne.org/events/details/non-profit-open-house-14244
END:VEVENT

END:VCALENDAR
