BEGIN:VCALENDAR
VERSION:2.0
PRODID:-//ChamberMaster//Event Calendar 2.0//EN
METHOD:PUBLISH
X-PUBLISHED-TTL:P3D
REFRESH-INTERVAL:P3D
CALSCALE:GREGORIAN
BEGIN:VEVENT
DTSTART:20190327T200000Z
DTEND:20190328T010000Z
X-MICROSOFT-CDO-ALLDAYEVENT:FALSE
SUMMARY:Northeast Nebraska Day at Capitol
DESCRIPTION:
X-ALT-DESC;FMTTYPE=text/html:
LOCATION:The Nebraska Club 233 S 13th St #2000 Lincoln\, NE
UID:e.881.14482
SEQUENCE:3
DTSTAMP:20260422T004733Z
URL:https://chamber.fremontne.org/events/details/northeast-nebraska-day-at-capitol-14482
END:VEVENT

END:VCALENDAR
