BEGIN:VCALENDAR
VERSION:2.0
PRODID:-//ChamberMaster//Event Calendar 2.0//EN
METHOD:PUBLISH
X-PUBLISHED-TTL:P3D
REFRESH-INTERVAL:P3D
CALSCALE:GREGORIAN
BEGIN:VEVENT
DTSTART:20260512T140000Z
DTEND:20260512T150000Z
X-MICROSOFT-CDO-ALLDAYEVENT:FALSE
SUMMARY:NOVA Chamber Coffee
DESCRIPTION:Join us for Chamber Coffee featuring NOVA Foster Care!\n\nEnjoy a morning of coffee\, connections\, and community while learning more about the impactful work of NOVA Foster Care.\n\n  Tuesday\, May 12\, 2026\n\n  9:00   10:00 AM\n\n  Keene Memorial Library\n\n1030 N Broad Street\, Fremont\, NE\n\nCelebrate National Foster Care Month with us and discover ways to support local youth and families we hope to see you there!
X-ALT-DESC;FMTTYPE=text/html:<p data-end="223" data-start="41" style="text-align: center\;"><span style="font-size:20px\;"><span style="font-family:verdana\;">&#9749\; <strong data-end="101" data-start="43">Join us for Chamber Coffee featuring NOVA Foster Care!</strong><br data-end="104" data-start="101" />\nEnjoy a morning of coffee\, connections\, and community while learning more about the impactful work of NOVA Foster Care.</span></span></p>\n\n<p data-end="346" data-start="225" style="text-align: center\;"><span style="font-size:20px\;"><span style="font-family:verdana\;">&#128197\; <strong data-end="253" data-start="228">Tuesday\, May 12\, 2026</strong><br data-end="256" data-start="253" />\n&#9200\; <strong data-end="277" data-start="258">9:00 &ndash\; 10:00 AM</strong><br data-end="280" data-is-only-node="" data-start="277" />\n&#128205\; <strong data-end="309" data-start="283">Keene Memorial Library</strong><br data-end="312" data-start="309" />\n1030 N Broad Street\, Fremont\, NE</span></span></p>\n\n<p data-end="475" data-is-last-node="" data-is-only-node="" data-start="348" style="text-align: center\;"><span style="font-size:20px\;"><span style="font-family:verdana\;">Celebrate National Foster Care Month with us and discover ways to support local youth and families&mdash\;we hope to see you there!&nbsp\;</span></span></p>\n
LOCATION:
UID:e.881.16922
SEQUENCE:3
DTSTAMP:20260424T204912Z
URL:https://chamber.fremontne.org/events/details/nova-chamber-coffee-16922
END:VEVENT

END:VCALENDAR
