BEGIN:VCALENDAR
VERSION:2.0
PRODID:-//ChamberMaster//Event Calendar 2.0//EN
METHOD:PUBLISH
X-PUBLISHED-TTL:P3D
REFRESH-INTERVAL:P3D
CALSCALE:GREGORIAN
BEGIN:VEVENT
DTSTART:20240509T210000Z
DTEND:20240509T230000Z
X-MICROSOFT-CDO-ALLDAYEVENT:FALSE
SUMMARY:NP Dodge Business After Hours
DESCRIPTION:Join us for NP Dodge Real Estate's Business After Hours  \n\n \n\n  Date: Thursday\, May 9th \n\n  Time: 4:00 pm - 6:00 pm\n\n  Location: 1037 East 23rd Street\, Fremont\, NE 68025\n\n\n\nCelebrate Cinco de Mayo with us and enjoy an evening of networking  Connect with fellow professionals\, exchange ideas\, and expand your business contacts in a relaxed atmosphere.\n\n\n\nDon't miss out on this opportunity to build valuable relationships while enjoying delicious snacks and refreshing beverages.   \n\n\n\nMark your calendars and RSVP today! We can't wait to see you there!  \n\n\n\nSevere Weather:\n\nIf the Fremont Public School District is closed for inclement weather\, the event will be canceled.\n\n\n\nPhoto and Video Release:\n\nBy registering and participating in this event\, you consent to the recording of your likeness\, image\, and/or voice and authorize the Fremont Area Chamber to use photographs\, video\, and audio recordings containing your likeness\, image\, and/or voice in any medium for any purpose.
X-ALT-DESC;FMTTYPE=text/html:<div style="text-align: center\;"><span style="font-size:20px\;"><span style="font-family:verdana\;"><strong><span style="font-size:24px\;">&#127881\; Join us for NP Dodge Real Estate&#39\;s Business After Hours &#127969\;</span></strong></span></span><br />\n&nbsp\;</div>\n\n<div style="text-align: center\;"><span style="font-size:20px\;"><span style="font-family:verdana\;">&#128197\;&nbsp\;<span style="color: rgb(13\, 13\, 13)\; white-space-collapse: preserve\;">Date: Thursday\, May 9th </span><br />\n&#128345\;&nbsp\;<span style="color: rgb(13\, 13\, 13)\; white-space-collapse: preserve\;">Time: 4:00 pm - 6:00 pm</span><br />\n&#128205\;<span style="color: rgb(13\, 13\, 13)\; white-space-collapse: preserve\;"> Location: 1037 East 23rd Street\, Fremont\, NE 68025</span><br />\n<br />\nCelebrate Cinco de Mayo with us and enjoy an evening of networking&#127882\; Connect with fellow professionals\, exchange ideas\, and expand your business contacts in a relaxed atmosphere.<br />\n<br />\nDon&#39\;t miss out on this opportunity to build valuable relationships while enjoying delicious snacks and refreshing beverages. &#127790\;&#127865\;<br />\n<br />\nMark your calendars and RSVP today! We can&#39\;t wait to see you there! &#127880\;</span></span><br />\n<br />\n<u style="text-align: center\;"><em><strong><span style="color: rgb(255\, 0\, 0)\; font-family: verdana\; font-size: 14px\;">Severe Weather:</span></strong></em></u><br style="text-align: center\; color: rgb(255\, 0\, 0)\; font-family: verdana\; font-size: 14px\;" />\n<span style="text-align: center\; font-family: verdana\; font-size: 14px\;">If the Fremont Public School District is closed for inclement weather\, the event will be canceled.</span><br style="text-align: center\; color: rgb(255\, 0\, 0)\; font-family: verdana\; font-size: 14px\;" />\n<br style="text-align: center\; color: rgb(255\, 0\, 0)\; font-family: verdana\; font-size: 14px\;" />\n<u style="text-align: center\;"><em><strong><span style="color: rgb(255\, 0\, 0)\; font-family: verdana\; font-size: 14px\;">Photo and Video Release:</span></strong></em></u><br style="text-align: center\; color: rgb(255\, 0\, 0)\; font-family: verdana\; font-size: 14px\;" />\n<span style="text-align: center\; font-family: verdana\; font-size: 14px\;">By registering and participating in this event\, you consent to the recording of your likeness\, image\, and/or voice and authorize the Fremont Area Chamber to use photographs\, video\, and audio recordings containing your likeness\, image\, and/or voice in any medium for any purpose.</span></div>\n
LOCATION:
UID:e.881.16354
SEQUENCE:3
DTSTAMP:20260422T061200Z
URL:https://chamber.fremontne.org/events/details/np-dodge-business-after-hours-16354
END:VEVENT

END:VCALENDAR
