BEGIN:VCALENDAR
VERSION:2.0
PRODID:-//ChamberMaster//Event Calendar 2.0//EN
METHOD:PUBLISH
X-PUBLISHED-TTL:P3D
REFRESH-INTERVAL:P3D
CALSCALE:GREGORIAN
BEGIN:VEVENT
DTSTART:20200108T180000Z
DTEND:20200108T190000Z
X-MICROSOFT-CDO-ALLDAYEVENT:FALSE
SUMMARY:Opera House Luncheon
DESCRIPTION:You're invited to join us for a hot lunch and musical entertainment!\n\n\n\nWednesday\, January 8th\n\n12:00pm\n\nFremont Opera House\n\n541 N. Broad St.\n\n\n\nCome and enjoy music by Violinist Anne Sorensen-Wang and Bassist Chunyang Wang.  Their beautiful symphonic harmony is a wonderful delight to hear and see!\n \n$15 per person.  Space is limited and reservations are required.  Please RSVP by January 3rd by visiting www.fremontoperahouse.org or call (402) 720-2332.
X-ALT-DESC;FMTTYPE=text/html:<strong>You&#39\;re invited to join us for a hot lunch and musical entertainment!<br />\n<br />\nWednesday\, January 8th<br />\n12:00pm<br />\nFremont Opera House<br />\n541 N. Broad St.<br />\n<br />\nCome and enjoy music by Violinist Anne Sorensen-Wang and Bassist Chunyang Wang.&nbsp\; Their beautiful symphonic harmony is a wonderful delight to hear and see!</strong>\n<div>&nbsp\;</div>\n$15 per person.&nbsp\; Space is limited and reservations are required. &nbsp\;Please RSVP by January 3rd by visiting www.fremontoperahouse.org or call (402) 720-2332.
LOCATION:Fremont Opera House 541 N. Broad St. Fremont\, NE. 68025
UID:e.881.14723
SEQUENCE:3
DTSTAMP:20260421T133108Z
URL:https://chamber.fremontne.org/events/details/opera-house-luncheon-01-08-2020-14723
END:VEVENT

END:VCALENDAR
