BEGIN:VCALENDAR
VERSION:2.0
PRODID:-//ChamberMaster//Event Calendar 2.0//EN
METHOD:PUBLISH
X-PUBLISHED-TTL:P3D
REFRESH-INTERVAL:P3D
CALSCALE:GREGORIAN
BEGIN:VEVENT
DTSTART:20210420T190000Z
DTEND:20210420T200000Z
X-MICROSOFT-CDO-ALLDAYEVENT:FALSE
SUMMARY:P.U.S.H. Transitional Living Ribbon Cutting
DESCRIPTION:
X-ALT-DESC;FMTTYPE=text/html:
LOCATION:
UID:e.881.15066
SEQUENCE:3
DTSTAMP:20260419T213440Z
URL:https://chamber.fremontne.org/events/details/p-u-s-h-transitional-living-ribbon-cutting-15066
END:VEVENT

END:VCALENDAR
