BEGIN:VCALENDAR
VERSION:2.0
PRODID:-//ChamberMaster//Event Calendar 2.0//EN
METHOD:PUBLISH
X-PUBLISHED-TTL:P3D
REFRESH-INTERVAL:P3D
CALSCALE:GREGORIAN
BEGIN:VEVENT
DTSTART:20191219T153000Z
DTEND:20191219T163000Z
X-MICROSOFT-CDO-ALLDAYEVENT:FALSE
SUMMARY:Parkinson's Support Group - Nye Legacy
DESCRIPTION:Come join us in fellowship and learning about Parkinson's Disease in our community and how we can all come together to support those affected and raise awareness. We have different speakers and topics each month.
X-ALT-DESC;FMTTYPE=text/html:<span style="color:rgb(51\, 51\, 51)"><span style="font-family:arial\,sans-serif"><span style="font-size:10pt">Come join us in fellowship and learning about Parkinson&rsquo\;s Disease in our community and how we can all come together to support those affected and raise awareness. We have different speakers and topics each month. </span></span></span>
LOCATION:3210 N Clarkson\, Fremont NE 68025 Nye Health Services 402-753-6108
UID:e.881.14395
SEQUENCE:3
DTSTAMP:20260421T133130Z
URL:https://chamber.fremontne.org/events/details/parkinson-s-support-group-nye-legacy-12-19-2019-14395
END:VEVENT

END:VCALENDAR
