BEGIN:VCALENDAR
VERSION:2.0
PRODID:-//ChamberMaster//Event Calendar 2.0//EN
METHOD:PUBLISH
X-PUBLISHED-TTL:P3D
REFRESH-INTERVAL:P3D
CALSCALE:GREGORIAN
BEGIN:VEVENT
DTSTART:20240607T140000Z
DTEND:20240607T150000Z
X-MICROSOFT-CDO-ALLDAYEVENT:FALSE
SUMMARY:Paul Davis Ribbon Cutting
DESCRIPTION:Join Us for Paul Davis' Ribbon Cutting Ceremony!  \n\n\n\n  Date: Friday\, June 7th  \n\n  Time: 9:00 - 10:00 AM  \n\n  Location: 225 E 6th St.\, Fremont\, NE 68025\n\n\n\nWe are excited to welcome Paul Davis to the Fremont community!   Join us for the grand opening of their new office. This event is a great opportunity to meet the team\, network with local business leaders\, and celebrate a new addition to our community.  \n\n\n\nLet's come together to support and celebrate this new chapter for Paul Davis!\n\n See you there!    \n\n\n\n\n\nSevere Weather:\n\nIf the Fremont Public School District is closed for inclement weather\, the event will be canceled.\n\n\n\nPhoto and Video Release:\n\nBy registering and participating in this event\, you consent to the recording of your likeness\, image\, and/or voice and authorize the Fremont Area Chamber to use photographs\, video\, and audio recordings containing your likeness\, image\, and/or voice in any medium for any purpose.
X-ALT-DESC;FMTTYPE=text/html:<div style="text-align: center\;"><span style="font-size:18px\;"><span style="font-family:verdana\;"><span style="font-size:24px\;"><strong>&#127881\; Join Us for Paul Davis&#39\; Ribbon Cutting Ceremony!&nbsp\;&#127881\;</strong></span><br />\n<br />\n&#128197\; Date: Friday\, June 7th&nbsp\;&nbsp\;<br />\n&#9200\; Time:&nbsp\;9:00 - 10:00 AM&nbsp\;&nbsp\;<br />\n&#128205\; Location:&nbsp\;225 E 6th St.\, Fremont\, NE 68025<br />\n<br />\nWe are excited to welcome Paul Davis to the Fremont community! &#127882\; Join us for the grand opening of their new office. This event is a great opportunity to meet the team\, network with local business leaders\, and celebrate a new addition to our community. &#127880\;<br />\n<br />\nLet&#39\;s come together to support and celebrate this new chapter for Paul Davis!<br />\n&nbsp\;See you there! &#127872\;&#9986\;&#65039\;</span></span><br />\n<br />\n<br />\n<u style="text-align: center\;"><em><strong><span style="color: rgb(255\, 0\, 0)\; font-family: verdana\; font-size: 14px\;">Severe Weather:</span></strong></em></u><br style="text-align: center\; color: rgb(255\, 0\, 0)\; font-family: verdana\; font-size: 14px\;" />\n<span style="text-align: center\; font-family: verdana\; font-size: 14px\;">If the Fremont Public School District is closed for inclement weather\, the event will be canceled.</span><br style="text-align: center\; color: rgb(255\, 0\, 0)\; font-family: verdana\; font-size: 14px\;" />\n<br style="text-align: center\; color: rgb(255\, 0\, 0)\; font-family: verdana\; font-size: 14px\;" />\n<u style="text-align: center\;"><em><strong><span style="color: rgb(255\, 0\, 0)\; font-family: verdana\; font-size: 14px\;">Photo and Video Release:</span></strong></em></u><br style="text-align: center\; color: rgb(255\, 0\, 0)\; font-family: verdana\; font-size: 14px\;" />\n<span style="text-align: center\; font-family: verdana\; font-size: 14px\;">By registering and participating in this event\, you consent to the recording of your likeness\, image\, and/or voice and authorize the Fremont Area Chamber to use photographs\, video\, and audio recordings containing your likeness\, image\, and/or voice in any medium for any purpose.</span></div>\n
LOCATION:
UID:e.881.16226
SEQUENCE:3
DTSTAMP:20260424T200453Z
URL:https://chamber.fremontne.org/events/details/paul-davis-ribbon-cutting-16226
END:VEVENT

END:VCALENDAR
