BEGIN:VCALENDAR
VERSION:2.0
PRODID:-//ChamberMaster//Event Calendar 2.0//EN
METHOD:PUBLISH
X-PUBLISHED-TTL:P3D
REFRESH-INTERVAL:P3D
CALSCALE:GREGORIAN
BEGIN:VEVENT
DTSTART:20240903T140000Z
DTEND:20240903T150000Z
X-MICROSOFT-CDO-ALLDAYEVENT:FALSE
SUMMARY:Perfumeria Boricua Ribbon Cutting
DESCRIPTION:Perfumeria Boricua y algo m s Ribbon Cutting\n\n\n\n  Tuesday\, September 3rd\, 2024\n\n  9:00 AM - 10:00 AM\n\n  224 N. Main St. #3\, Fremont\, NE 68025\n\n\n\nPerfumeria Boricua y algo mas is a vibrant new addition to our downtown community\, offering a unique selection of perfumes and a variety of other goods\, including clothes\, bags\, hats\, and more!    \n\nCome out and help us welcome this wonderful Puerto Rican shop to our lively downtown! Let's show our support for this new business and celebrate the rich diversity they bring to our community.  \n\nSee you there!
X-ALT-DESC;FMTTYPE=text/html:<p style="text-align: center\;"><span style="font-size:18px\;"><span style="font-size:24px\;"><span style="font-family:verdana\;"><strong>&#8203\;Perfumeria Boricua y algo m&aacute\;s Ribbon Cutting</strong></span></span><br />\n<br />\n<span style="font-family:verdana\;">&#128197\; <strong>Tuesday\, September 3rd\, 2024</strong><br />\n&#9200\; <strong>9:00 AM - 10:00 AM</strong></span><br />\n<strong>&#128205\; 224 N. Main St. #3\, Fremont\, NE 68025</strong><br />\n<br />\nPerfumeria Boricua y algo mas is a vibrant new addition to our downtown community\, offering a unique selection of perfumes and a variety of other goods\, including clothes\, bags\, hats\, and more! &#128717\;&#65039\;&#10024\;</span></p>\n\n<p style="text-align: center\;"><span style="font-size:18px\;">Come out and help us welcome this wonderful Puerto Rican shop to our lively downtown! Let&#39\;s show our support for this new business and celebrate the rich diversity they bring to our community. &#127882\;</span></p>\n\n<p style="text-align: center\;"><span style="font-size:18px\;">See you there! &#127775\;</span></p>\n
LOCATION:
UID:e.881.16379
SEQUENCE:3
DTSTAMP:20260423T182052Z
URL:https://chamber.fremontne.org/events/details/perfumeria-boricua-ribbon-cutting-16379
END:VEVENT

END:VCALENDAR
