BEGIN:VCALENDAR
VERSION:2.0
PRODID:-//ChamberMaster//Event Calendar 2.0//EN
METHOD:PUBLISH
X-PUBLISHED-TTL:P3D
REFRESH-INTERVAL:P3D
CALSCALE:GREGORIAN
BEGIN:VEVENT
DTSTART:20231122T220000Z
DTEND:20231123T000000Z
X-MICROSOFT-CDO-ALLDAYEVENT:FALSE
SUMMARY:Platte Valley Equipment Business After Hours
DESCRIPTION:Platte Valley Equipment's Business After Hours  \n\n\n\nJoin us for a Fun and Festive Evening!\n\n\n\n  Date: Wednesday\, November 22nd\n\n  Time: 4:00 PM - 6:00 PM\n\n  Location: 2221 County Rd Q\, Fremont\, NE 68025\n\n\n\n   'Tis the season to be merry and bright\, and Platte Valley Equipment is ready to light up your holiday spirit!   \n\n\n\nWhether you're a valued customer\, a partner in business\, or simply someone looking to embrace the holiday spirit\, this event is the perfect way to connect\, relax\, and get into the holiday groove. So\, bring your smiles\, your enthusiasm\, and your festive spirit   we can't wait to celebrate with you!\n\n\n\nSee you there!
X-ALT-DESC;FMTTYPE=text/html:<div style="text-align: center\;"><span style="font-size:28px\;"><span style="color: rgb(55\, 65\, 81)\; font-family: Söhne\, ui-sans-serif\, system-ui\, -apple-system\, &quot\;Segoe UI&quot\;\, Roboto\, Ubuntu\, Cantarell\, &quot\;Noto Sans&quot\;\, sans-serif\, &quot\;Helvetica Neue&quot\;\, Arial\, &quot\;Apple Color Emoji&quot\;\, &quot\;Segoe UI Emoji&quot\;\, &quot\;Segoe UI Symbol&quot\;\, &quot\;Noto Color Emoji&quot\;\; white-space-collapse: preserve\; background-color: rgb(247\, 247\, 248)\;">&#10024\;&#127876\;</span><span style="font-family:verdana\;"><strong>Platte Valley Equipment&#39\;s Business After Hours</strong></span><span style="color: rgb(55\, 65\, 81)\; font-family: Söhne\, ui-sans-serif\, system-ui\, -apple-system\, &quot\;Segoe UI&quot\;\, Roboto\, Ubuntu\, Cantarell\, &quot\;Noto Sans&quot\;\, sans-serif\, &quot\;Helvetica Neue&quot\;\, Arial\, &quot\;Apple Color Emoji&quot\;\, &quot\;Segoe UI Emoji&quot\;\, &quot\;Segoe UI Symbol&quot\;\, &quot\;Noto Color Emoji&quot\;\; white-space-collapse: preserve\; background-color: rgb(247\, 247\, 248)\;">&#10024\;&#127876\;</span></span><br />\n<br />\n<span style="font-size:20px\;"><span style="font-family:verdana\;">Join us for a Fun and Festive Evening!<br />\n<br />\n&#128197\; Date: Wednesday\, November 22nd<br />\n&#128339\; Time: 4:00 PM - 6:00 PM<br />\n&#128205\; Location: 2221 County Rd Q\, Fremont\, NE 68025<br />\n<br />\n&#127876\;&#10024\; &#39\;Tis the season to be merry and bright\, and Platte Valley Equipment is ready to light up your holiday spirit! &#127876\;&#10024\;<br />\n<br />\nWhether you&#39\;re a valued customer\, a partner in business\, or simply someone looking to embrace the holiday spirit\, this event is the perfect way to connect\, relax\, and get into the holiday groove. So\, bring your smiles\, your enthusiasm\, and your festive spirit &ndash\; we can&#39\;t wait to celebrate with you!<br />\n<br />\nSee you there!&#127873\;&#127775\;&#127881\;</span></span></div>\n
LOCATION:Platte Valley Equipment - Fremont Location
UID:e.881.15624
SEQUENCE:3
DTSTAMP:20260423T180358Z
URL:https://chamber.fremontne.org/events/details/platte-valley-equipment-business-after-hours-15624
END:VEVENT

END:VCALENDAR
