BEGIN:VCALENDAR
VERSION:2.0
PRODID:-//ChamberMaster//Event Calendar 2.0//EN
METHOD:PUBLISH
X-PUBLISHED-TTL:P3D
REFRESH-INTERVAL:P3D
CALSCALE:GREGORIAN
BEGIN:VEVENT
DTSTART:20190523T163000Z
DTEND:20190523T180000Z
X-MICROSOFT-CDO-ALLDAYEVENT:FALSE
SUMMARY:Power of Possible Home Ownership Luncheon
DESCRIPTION:U.S. Bank is hosting a Home Ownership Luncheon.  Hear updates from NIFA\, learn about downpayment assistance programs & meet with developers.  Free lunch included!
X-ALT-DESC;FMTTYPE=text/html:U.S. Bank is hosting a Home Ownership Luncheon.&nbsp\; Hear updates from NIFA\, learn about downpayment assistance programs &amp\; meet with developers.&nbsp\; Free lunch included!
LOCATION:J's Steakhouse 406 N. Main St. Fremont\, NE 68025
UID:e.881.14528
SEQUENCE:3
DTSTAMP:20260421T234723Z
URL:https://chamber.fremontne.org/events/details/power-of-possible-home-ownership-luncheon-14528
END:VEVENT

END:VCALENDAR
