BEGIN:VCALENDAR
VERSION:2.0
PRODID:-//ChamberMaster//Event Calendar 2.0//EN
METHOD:PUBLISH
X-PUBLISHED-TTL:P3D
REFRESH-INTERVAL:P3D
CALSCALE:GREGORIAN
BEGIN:VEVENT
DTSTART:20180830T223000Z
DTEND:20180831T003000Z
X-MICROSOFT-CDO-ALLDAYEVENT:FALSE
SUMMARY:Prairie Fields Aesthetics Wine Night
DESCRIPTION:You're Invited.........to Prairie Fields Aesthetics Wine Night! Come relax and enjoy a glass of wine while you learn all about Prairie Fields Aesthetics and our amazing skin care line\, EltaMD.\n\n			\n			One Night Only... Special Event Botox Pricing!\n\n			Receive special $9 per unit pricing this evening! Dr. Wolf will be available for consults AND treatments. You don't want to miss out on this event!\n\n			P.S... Don't forget to sign up to win a Raffle Prize!!\n\n			Our Grand Prize will be one FULL TREATMENT of Botox!\n\n			(That's 64 units total!)
X-ALT-DESC;FMTTYPE=text/html:<div>\n<table border="0" cellpadding="0" cellspacing="0" style="border-collapse:collapse\; table-layout:fixed\; width:100%">\n	<tbody>\n		<tr>\n			<td style="text-align:center">\n			<div><span style="font-size:26px"><span style="font-family:century gothic\,calibri\,helvetica\,arial\,sans-serif">You&#39\;re Invited</span></span><span style="font-family:century gothic\,calibri\,helvetica\,arial\,sans-serif\; font-size:18px">.........to Prairie Fields Aesthetics Wine Night! Come relax and enjoy a glass of wine while you learn all about Prairie Fields Aesthetics and our amazing skin care line\, EltaMD.</span></div>\n\n			<div>\n			<div style="text-align:center"><span style="font-size:26px"><span style="font-family:century gothic\,calibri\,helvetica\,arial\,sans-serif">One Night Only... Special Event Botox Pricing!</span></span></div>\n\n			<div style="text-align:center"><span style="color:rgb(44\, 46\, 72)\; font-family:century gothic\,calibri\,helvetica\,arial\,sans-serif\; font-size:20px"><span style="font-size:18px">Receive special $9 per unit pricing this evening! Dr. Wolf will be available for consults AND treatments. You don&#39\;t want to miss out on this event!</span></span>\n\n			<div style="text-align:center"><span style="font-size:26px"><span style="font-family:century gothic\,calibri\,helvetica\,arial\,sans-serif">P.S... Don&#39\;t forget to sign up to win a Raffle Prize!!</span></span></div>\n\n			<div style="text-align:center"><span style="font-size:20px"><span style="font-family:century gothic\,calibri\,helvetica\,arial\,sans-serif">Our Grand Prize will be one FULL TREATMENT of Botox!<br />\n			(That&#39\;s 64 units total!)</span></span></div>\n			</div>\n			</div>\n			</td>\n		</tr>\n	</tbody>\n</table>\n</div>\n
LOCATION:The Wine Experience 415 N Main St. Fremont\, NE 68025
UID:e.881.14189
SEQUENCE:3
DTSTAMP:20260422T113242Z
URL:https://chamber.fremontne.org/events/details/prairie-fields-aesthetics-wine-night-14189
END:VEVENT

END:VCALENDAR
