BEGIN:VCALENDAR
VERSION:2.0
PRODID:-//ChamberMaster//Event Calendar 2.0//EN
METHOD:PUBLISH
X-PUBLISHED-TTL:P3D
REFRESH-INTERVAL:P3D
CALSCALE:GREGORIAN
BEGIN:VEVENT
DTSTART:20180814T183000Z
DTEND:20180814T193000Z
X-MICROSOFT-CDO-ALLDAYEVENT:FALSE
SUMMARY:Professional Development Council
DESCRIPTION:
X-ALT-DESC;FMTTYPE=text/html:
LOCATION:Conference Room Fremont Area Chamber of Commerce 128 East Sixth Street
UID:e.881.4475
SEQUENCE:3
DTSTAMP:20260422T100512Z
URL:https://chamber.fremontne.org/events/details/professional-development-council-08-14-2018-4475
END:VEVENT

END:VCALENDAR
