BEGIN:VCALENDAR
VERSION:2.0
PRODID:-//ChamberMaster//Event Calendar 2.0//EN
METHOD:PUBLISH
X-PUBLISHED-TTL:P3D
REFRESH-INTERVAL:P3D
CALSCALE:GREGORIAN
BEGIN:VEVENT
DTSTART:20190320T220000Z
DTEND:20190321T020000Z
X-MICROSOFT-CDO-ALLDAYEVENT:FALSE
SUMMARY:Raising Cane's
DESCRIPTION:Raising Cane's Community Give Back: 15% of sales from 5-9pm at the Fremont\, Lincoln\, Grand Island\, Norfolk\, Kearney and North Platte restaurants will be donated to the Salvation Army\, who guarantees the funds will stay in our state to help flood victims.
X-ALT-DESC;FMTTYPE=text/html:Raising Cane&#39\;s Community Give Back:&nbsp\;15% of sales from 5-9pm at the Fremont\, Lincoln\, Grand Island\, Norfolk\, Kearney and North Platte restaurants will be donated to the Salvation Army\, who guarantees the funds will stay in our state to help flood victims.
LOCATION:Raising Cane's Chicken Fingers 1058 E 23rd Street | Fremont\, NE 68025 O: 402.620.4827
UID:e.881.14498
SEQUENCE:3
DTSTAMP:20260422T004542Z
URL:https://chamber.fremontne.org/events/details/raising-cane-s-14498
END:VEVENT

END:VCALENDAR
