BEGIN:VCALENDAR
VERSION:2.0
PRODID:-//ChamberMaster//Event Calendar 2.0//EN
METHOD:PUBLISH
X-PUBLISHED-TTL:P3D
REFRESH-INTERVAL:P3D
CALSCALE:GREGORIAN
BEGIN:VEVENT
DTSTART:20200228T143000Z
DTEND:20200228T220000Z
X-MICROSOFT-CDO-ALLDAYEVENT:FALSE
SUMMARY:Nebraska Rent Wise Class
DESCRIPTION:NEBRASKA RENT WISE IS AN EDUCATION PROGRAM TO ASSIST RENTERS TO OBTAIN AND KEEP RENTAL HOUSING SUCCESSFULLY.  \nATTENDEES EARN A CERTIFICATE AND INCREASE COMMUNITY AWARENESS AND SUPPORT FOR           QUALITY AFFORDABLE HOUSING!  \n\nTHE PROGRAM IS FREE TO RESIDENTS AND PROGRAM PARTICIPANTS.  \n\nWE INVITE THE PUBLIC TO ATTEND FOR $5 TO COVER THE COST OF MATERIALS.\n\nPlease RSVP by Friday February 21st\, 2020  to:\n\nJessica Timm at Life House (402) 721-3125\n\nOR\n\nTina Dooling at Fremont Housing Agency (402) 727-4848\n\nLooking Forward to Seeing You at the Training!  \n\nRegister Today!
X-ALT-DESC;FMTTYPE=text/html:<div><span style="color:black"><span style="font-family:cooper black\,serif"><span style="font-size:16.0pt">NEBRASKA RENT WISE IS AN EDUCATION PROGRAM TO ASSIST RENTERS TO OBTAIN AND KEEP RENTAL HOUSING SUCCESSFULLY.&nbsp\; </span></span></span></div>\n<span style="color:black"><span style="font-family:cooper black\,serif"><span style="font-size:16.0pt">ATTENDEES EARN A CERTIFICATE AND INCREASE COMMUNITY AWARENESS AND SUPPORT FOR&nbsp\;&nbsp\;&nbsp\;&nbsp\;&nbsp\;&nbsp\;&nbsp\;&nbsp\;&nbsp\;&nbsp\; QUALITY AFFORDABLE HOUSING!&nbsp\; </span></span></span><br />\n<span style="color:black"><span style="font-family:cooper black\,serif"><span style="font-size:16.0pt">THE PROGRAM IS FREE TO RESIDENTS AND PROGRAM PARTICIPANTS.&nbsp\; </span></span></span><br />\n<span style="color:black"><span style="font-family:cooper black\,serif"><span style="font-size:16.0pt">WE INVITE THE PUBLIC TO ATTEND FOR $5 TO COVER THE COST OF MATERIALS.</span></span></span><br />\n<span style="color:black"><span style="font-family:californian fb\,serif"><span style="font-size:18.0pt">Please RSVP by Friday February 21<sup>st</sup>\, 2020&nbsp\; to:</span></span></span><br />\n<span style="color:black"><span style="font-family:californian fb\,serif"><span style="font-size:16.0pt">Jessica Timm at Life House (402) 721-3125</span></span></span><br />\n<span style="color:black"><span style="font-family:californian fb\,serif"><span style="font-size:16.0pt">OR</span></span></span><br />\n<span style="color:black"><span style="font-family:californian fb\,serif"><span style="font-size:16.0pt">Tina Dooling at Fremont Housing Agency (402) 727-4848</span></span></span><br />\n<span style="color:black"><span style="font-family:cooper black\,serif"><span style="font-size:16.0pt">Looking Forward to Seeing You at the Training!&nbsp\; </span></span></span><br />\n<span style="color:black"><span style="font-family:cooper black\,serif"><span style="font-size:16.0pt">Register Today!</span></span></span>
LOCATION:Fremont Housing Agency - Gifford Tower - 2510 N Clarkson Street\, Fremont\, Nebraska 68025
UID:e.881.14735
SEQUENCE:3
DTSTAMP:20260421T115143Z
URL:https://chamber.fremontne.org/events/details/rent-wise-02-28-2020-14735
END:VEVENT

END:VCALENDAR
