BEGIN:VCALENDAR
VERSION:2.0
PRODID:-//ChamberMaster//Event Calendar 2.0//EN
METHOD:PUBLISH
X-PUBLISHED-TTL:P3D
REFRESH-INTERVAL:P3D
CALSCALE:GREGORIAN
BEGIN:VEVENT
DTSTART:20190423T140000Z
DTEND:20190423T150000Z
X-MICROSOFT-CDO-ALLDAYEVENT:FALSE
SUMMARY:Rescare Coffee
DESCRIPTION:ResCare Workforce Services: Who we Are\n\nResCare Workforce Services is the nation's most comprehensive provider of services and solutions designed to help put people to work. Our combination of career center operations\, Job Corps centers\, schools\, business services and family support functions are the largest for-profit collection of workforce solutions in the United States.\n\n \n\n  Over 350 ResCare-managed operations throughout the nation.\n\n  Our team consist of more than 2\,000 workforce professionals.\n\n  We use the industry's best practices to assist approximately 1 million career seekers and thousands of employers annually.\n\n  We help reduce poverty and unemployment in the communities we serve.\n\n  We have developed unique service methods and protocols that have helped many state\, local\, and government agencies get citizens back to work.  \n\n  Most importantly\, we have changed the lives of millions of people by helping them find jobs and make lifestyle changes that lead to self-sufficiency and success.\n\n \n\n  \n\nEmployment First\n\nResCare Workforce Services is contracted by the State of Nebraska's Department of Health and Human Services to provide services to families in need of assistance. Nebraska's Employment First (EF) program allows parents that are receiving Aid to Dependent Children (ADC) cash assistance to work towards self-sufficiency through education\, training and job skills. \n\n \n\nPartnership Opportunities\n\nAccording to the 2017 United States Census Bureau\, 11.4% of Nebraskan's are living in poverty. ResCare Workforce Services works hard daily to lower that number by utilizing tools to help the career seekers reach self-sufficiency. A tool most commonly utilized are the partnerships we create and maintain with community resources and businesses. We at ResCare believe that these partnerships will help career seekers in many ways. ResCare truly values our partnerships with the community. Partnerships can vary and are always growing\; some ways your business and ResCare can work together to help career seekers are:\n\n \n\n  Employment leads: let us help you fill your open positions with qualified persons! Let us know when you have a job opening and we will share the information with career seekers who want to work in your field.\n\n  Work Experience and Community Service: Want to assist a job seeker with gaining employability skills? We can connect you with a participant who wants to learn.\n\n  Community Resources: does your organization provide services for persons in need? We'll help spread the word and you'll be able to concentrate on what you do best    helping others!
X-ALT-DESC;FMTTYPE=text/html:<strong><u><span style="color:black\;"><span style="font-size:11.0pt\;">ResCare Workforce Services: Who we Are</span></span></u></strong><br />\n<span style="color:black\;">ResCare Workforce Services is the nation&rsquo\;s most comprehensive provider of services and solutions designed to help put people to work. Our combination of career center operations\, Job Corps centers\, schools\, business services and family support functions are the largest for-profit collection of workforce solutions in the United States.</span><br />\n&nbsp\;<br />\n<span style="color:black\;"><span style="font-family:segoe ui symbol\,sans-serif\;">&#10064\;</span></span>&nbsp\;<span style="color:black\;">Over 350<span style="text-decoration:none\;text-underline:none\;"><span style="color:black\;"><a href="https://www.rescare.com/workforceservices/locations/"><span style="text-decoration:none\;text-underline:none\;"><span style="color:black\;"> ResCare-managed operations throughout the nation</span></span></a></span></span></span>.<br />\n<span style="color:black\;"><span style="font-family:segoe ui symbol\,sans-serif\;">&#10064\;</span></span>&nbsp\;<span style="color:black\;">Our team consist of more than 2\,000 workforce professionals</span><span style="color:black\;">.</span><br />\n<span style="color:black\;"><span style="font-family:segoe ui symbol\,sans-serif\;">&#10064\;</span></span>&nbsp\;<span style="color:black\;">We use the industry&rsquo\;s best practices to assist approximately 1 million career seekers and thousands of employers annually.</span><br />\n<span style="color:black\;"><span style="font-family:segoe ui symbol\,sans-serif\;">&#10064\;</span></span>&nbsp\;<span style="color:black\;">We help reduce poverty and unemployment in the communities we serve.</span><br />\n<span style="color:black\;"><span style="font-family:segoe ui symbol\,sans-serif\;">&#10064\;</span></span>&nbsp\;<span style="color:black\;">We have developed unique service methods and protocols that have helped many state\, local\, and government agencies get citizens back to work. &nbsp\;</span><br />\n<span style="color:black\;"><span style="font-family:segoe ui symbol\,sans-serif\;">&#10064\;</span></span>&nbsp\;<span style="color:black\;">Most importantly\, we have changed the lives of millions of people by helping them find jobs and make lifestyle changes that lead to self-sufficiency and success.</span><br />\n&nbsp\;<br />\n&nbsp\;&nbsp\;<br />\n<strong><u><span style="color:black\;"><span style="font-size:11.0pt\;">Employment First</span></span></u></strong><br />\n<span style="color:black\;">ResCare Workforce Services is contracted by the State of Nebraska&rsquo\;s Department of Health and Human Services to provide services to families in need of assistance. Nebraska&rsquo\;s Employment First (EF) program allows parents that are receiving Aid to Dependent Children (ADC) cash assistance to work towards self-sufficiency through education\, training and job skills. </span><br />\n&nbsp\;<br />\n<strong><u><span style="color:black\;"><span style="font-size:11.0pt\;">Partnership Opportunities</span></span></u></strong><br />\n<span style="color:black\;">According to the 2017 United States Census Bureau\, 11.4% of Nebraskan&rsquo\;s are living in poverty. ResCare Workforce Services works hard daily to lower that number by utilizing tools to help the career seekers reach self-sufficiency. A tool most commonly utilized are the partnerships we create and maintain with community resources and businesses. We at ResCare believe that these partnerships will help career seekers in many ways. ResCare truly values our partnerships with the community. Partnerships can vary and are always growing\; some ways your business and ResCare can work together to help career seekers are:</span><br />\n&nbsp\;<br />\n<span style="font-family:segoe ui symbol\,sans-serif\;">&#10064\;</span>&nbsp\;<strong><span style="color:black\;">Employment leads:</span></strong><span style="color:black\;"> let us help you fill your open positions with qualified persons! Let us know when you have a job opening and we will share the information with career seekers who want to work in your field.</span><br />\n<span style="font-family:segoe ui symbol\,sans-serif\;">&#10064\;</span>&nbsp\;<strong><span style="color:black\;">Work Experience and Community Service:</span></strong><span style="color:black\;"> Want to assist a job seeker with gaining employability skills? We can connect you with a participant who wants to learn.</span><br />\n<span style="font-family:segoe ui symbol\,sans-serif\;">&#10064\;</span>&nbsp\;<strong><span style="color:black\;">Community Resources:</span></strong><span style="color:black\;"> does your organization provide services for persons in need? We&rsquo\;ll help spread the word and you&rsquo\;ll be able to concentrate on what you do best&nbsp\; &ndash\; helping others!</span>
LOCATION:ResCare Workforce Services 210 East 8th Street Suite C Fremont\, NE 68025
UID:e.881.14310
SEQUENCE:3
DTSTAMP:20260421T233330Z
URL:https://chamber.fremontne.org/events/details/rescare-coffee-14310
END:VEVENT

END:VCALENDAR
