BEGIN:VCALENDAR
VERSION:2.0
PRODID:-//ChamberMaster//Event Calendar 2.0//EN
METHOD:PUBLISH
X-PUBLISHED-TTL:P3D
REFRESH-INTERVAL:P3D
CALSCALE:GREGORIAN
BEGIN:VEVENT
DTSTART:20181228T190000Z
DTEND:20181228T200000Z
X-MICROSOFT-CDO-ALLDAYEVENT:FALSE
SUMMARY:Retirement Reception
DESCRIPTION:Please join us for a Retirement Reception in honor of Kathy Luther.  After over 12 years of dedicated service with Fremont Housing Agency\, she has decided to retire.  We appreciate all the hard work she has done as Accounting Clerk and want to celebrate her accomplishments!
X-ALT-DESC;FMTTYPE=text/html:<strong><span style="font-size:14px"><span style="font-family:tahoma">Please join us for a Retirement Reception in honor of Kathy Luther.&nbsp\; After over 12 years of dedicated service with Fremont Housing Agency\, she has decided to retire.&nbsp\; We appreciate all the hard work she has done as Accounting Clerk and want to celebrate her accomplishments!</span></span></strong>
LOCATION:Gifford Tower Community Room 2510 N Clarkson Street Fremont\, NE 68025
UID:e.881.14304
SEQUENCE:3
DTSTAMP:20260422T050118Z
URL:https://chamber.fremontne.org/events/details/retirement-reception-14304
END:VEVENT

END:VCALENDAR
