BEGIN:VCALENDAR
VERSION:2.0
PRODID:-//ChamberMaster//Event Calendar 2.0//EN
METHOD:PUBLISH
X-PUBLISHED-TTL:P3D
REFRESH-INTERVAL:P3D
CALSCALE:GREGORIAN
BEGIN:VEVENT
DTSTART:20190204T220000Z
DTEND:20190204T230000Z
X-MICROSOFT-CDO-ALLDAYEVENT:FALSE
SUMMARY:Ribbon Cutting-Planet Fitness
DESCRIPTION:Help us welcome Planet Fitness to Fremont!
X-ALT-DESC;FMTTYPE=text/html:Help us welcome Planet Fitness to Fremont!&nbsp\;&nbsp\;
LOCATION:1041 East 23rd Street Fremont\, NE 68025
UID:e.881.14338
SEQUENCE:3
DTSTAMP:20260422T021433Z
URL:https://chamber.fremontne.org/events/details/ribbon-cutting-planet-fitness-14338
END:VEVENT

END:VCALENDAR
