BEGIN:VCALENDAR
VERSION:2.0
PRODID:-//ChamberMaster//Event Calendar 2.0//EN
METHOD:PUBLISH
X-PUBLISHED-TTL:P3D
REFRESH-INTERVAL:P3D
CALSCALE:GREGORIAN
BEGIN:VEVENT
DTSTART:20260515T140000Z
DTEND:20260515T150000Z
X-MICROSOFT-CDO-ALLDAYEVENT:FALSE
SUMMARY:Sawatdee Ribbon Cutting
DESCRIPTION:You're invited to a Ribbon Cutting Ceremony!\n\n\n\nJoin us as we celebrate the grand opening of Sawatdee Thai Restaurant and welcome them to the community with this special milestone event.\n\n  Friday\, May 15\, 2026\n\n  9:00   10:00 AM\n\n  507 N D St\, Fremont\, NE\n\nCome show your support\, connect with others\, and help us give Sawatdee Thai Restaurant a warm welcome we hope to see you there!
X-ALT-DESC;FMTTYPE=text/html:<p data-end="236" data-start="40" style="text-align: center\;"><span style="font-size:20px\;"><span style="font-family:verdana\;">&#9986\;&#65039\; <strong data-end="91" data-start="43">You&rsquo\;re invited to a Ribbon Cutting Ceremony!</strong><br />\n<br data-end="94" data-start="91" />\nJoin us as we celebrate the grand opening of <strong data-end="167" data-start="139">Sawatdee Thai Restaurant</strong> and welcome them to the community with this special milestone event.</span></span></p>\n\n<p data-end="324" data-start="238" style="text-align: center\;"><span style="font-size:20px\;"><span style="font-family:verdana\;">&#128197\; <strong data-end="265" data-start="241">Friday\, May 15\, 2026</strong><br data-end="268" data-start="265" />\n&#9200\; <strong data-end="289" data-start="270">9:00 &ndash\; 10:00 AM</strong><br data-end="292" data-is-only-node="" data-start="289" />\n&#128205\; <strong data-end="322" data-start="295">507 N D St\, Fremont\, NE</strong></span></span></p>\n\n<p data-end="456" data-is-last-node="" data-is-only-node="" data-start="326" style="text-align: center\;"><span style="font-size:20px\;"><span style="font-family:verdana\;">Come show your support\, connect with others\, and help us give Sawatdee Thai Restaurant a warm welcome&mdash\;we hope to see you there! &#127881\;</span></span></p>\n
LOCATION:
UID:e.881.16923
SEQUENCE:3
DTSTAMP:20260424T221223Z
URL:https://chamber.fremontne.org/events/details/sawatdee-ribbon-cutting-16923
END:VEVENT

END:VCALENDAR
