BEGIN:VCALENDAR
VERSION:2.0
PRODID:-//ChamberMaster//Event Calendar 2.0//EN
METHOD:PUBLISH
X-PUBLISHED-TTL:P3D
REFRESH-INTERVAL:P3D
CALSCALE:GREGORIAN
BEGIN:VEVENT
DTSTART:20241029T140000Z
DTEND:20241029T150000Z
X-MICROSOFT-CDO-ALLDAYEVENT:FALSE
SUMMARY:Sid Dillon Chamber Coffee
DESCRIPTION:Join us for Sid Dillon's Chamber Coffee!   \n\nWe invite you to kick off your morning with great coffee\, networking\, and community at Sid Dillon's Chevrolet Showroom!\n\n  Date: Tuesday\, October 29th\n\n  Time: 9:00 - 10:00 AM\n\n  Location: Sid Dillon Chevrolet Showroom\n\n2500 E. 23rd St.\, Fremont\, NE 68025\n\nDon't miss this opportunity to connect with fellow Chamber members and learn more about Sid Dillon! It's a perfect way to energize your day. See you there!
X-ALT-DESC;FMTTYPE=text/html:<p style="text-align: center\;"><span style="font-size:24px\;"><span style="font-family:verdana\;">&#9749\;&#128663\; <strong>Join us for Sid Dillon&#39\;s Chamber Coffee!</strong> &#128663\;&#9749\;</span></span></p>\n\n<p style="text-align: center\;"><span style="font-size:20px\;"><span style="font-family:verdana\;">We invite you to kick off your morning with great coffee\, networking\, and community at Sid Dillon&#39\;s Chevrolet Showroom!</span></span></p>\n\n<p style="text-align: center\;"><span style="font-size:20px\;"><span style="font-family:verdana\;">&#128197\; <strong>Date:</strong> Tuesday\, October 29th<br />\n&#128344\; <strong>Time:</strong> 9:00 - 10:00 AM<br />\n&#128205\; <strong>Location:</strong> Sid Dillon Chevrolet Showroom</span></span><br />\n<strong style="font-family: verdana\; font-size: 20px\; text-align: center\;">2500 E. 23rd St.\, Fremont\, NE 68025</strong></p>\n\n<p style="text-align: center\;"><span style="font-size:20px\;"><span style="font-family:verdana\;">Don&#39\;t miss this opportunity to connect with fellow Chamber members and learn more about Sid Dillon! It&#39\;s a perfect way to energiz</span>e your day. See you there! &#127881\;</span></p>\n
LOCATION:Sid Dillon Chevrolet - Fremont 2500 E 23rd St. Fremont\, NE 68025
UID:e.881.16382
SEQUENCE:3
DTSTAMP:20260420T090610Z
URL:https://chamber.fremontne.org/events/details/sid-dillon-chamber-coffee-16382
END:VEVENT

END:VCALENDAR
