BEGIN:VCALENDAR
VERSION:2.0
PRODID:-//ChamberMaster//Event Calendar 2.0//EN
METHOD:PUBLISH
X-PUBLISHED-TTL:P3D
REFRESH-INTERVAL:P3D
CALSCALE:GREGORIAN
BEGIN:VEVENT
DTSTART;VALUE=DATE:20191101
DTEND;VALUE=DATE:20200101
TRANSP:TRANSPARENT
X-MICROSOFT-CDO-ALLDAYEVENT:TRUE
SUMMARY:Socks for Troops and Veterans
DESCRIPTION:Support our troops and veterans by purchasing a pair of socks to be donated to our local charity partner.
X-ALT-DESC;FMTTYPE=text/html:Support our troops and veterans by purchasing a pair of socks to be donated to our local charity partner.
LOCATION:Shoe Sensation\, Fremont\, NE Fremont Mall
UID:e.881.14715
SEQUENCE:3
DTSTAMP:20260421T132958Z
URL:https://chamber.fremontne.org/events/details/socks-for-troops-and-veterans-14715
END:VEVENT

END:VCALENDAR
