BEGIN:VCALENDAR
VERSION:2.0
PRODID:-//ChamberMaster//Event Calendar 2.0//EN
METHOD:PUBLISH
X-PUBLISHED-TTL:P3D
REFRESH-INTERVAL:P3D
CALSCALE:GREGORIAN
BEGIN:VEVENT
DTSTART:20250416T150000Z
DTEND:20250416T163000Z
X-MICROSOFT-CDO-ALLDAYEVENT:FALSE
SUMMARY:Spanish Network Meeting
DESCRIPTION:Join Us for the Spanish Networking Group's April Meeting!\n\n\n\nSpanish Networking Group meeting will be exciting opportunity for professionals to connect\, collaborate\, and grow their networks.\n\n  Date: Wednesday\, April 16th\, 2025\n\n  Time: 10:00 - 11:30 AM\n\n  Location: Christensen Family YMCA Camp\, 3402 W Military Ave\, Fremont\, NE\n\nThis monthly gathering brings together bilingual professionals from across the Fremont area to engage in meaningful conversations\, share insights\, and foster business relationships. Whether you're a business owner\, entrepreneur\, or part of a local organization\, this event is a fantastic way to expand your professional circle in a welcoming and supportive environment.\n\n\n\n \n\nLa C mara de Comercio del  rea de Fremont te invita a la pr xima reuni n del Spanish Networking Group\, una emocionante oportunidad para que los profesionales biling es se conecten\, colaboren y ampl en sus redes de contacto.\n\n  Fecha: Miercoles\, 16 de abril de 2025\n\n  Hora: 10:00 - 11:30 AM\n\n  Ubicaci n: Christensen Family YMCA Camp\, 3402 W Military Ave\, Fremont\, NE\n\nEste encuentro mensual re ne a profesionales biling es de toda el  rea de Fremont para participar en conversaciones significativas\, compartir ideas y fortalecer relaciones de negocios. Ya seas propietario de un negocio\, emprendedor o parte de una organizaci n local\, este evento es una excelente oportunidad para ampliar tu c rculo profesional en un ambiente acogedor y de apoyo.
X-ALT-DESC;FMTTYPE=text/html:<p data-end="63" data-start="0" style="text-align: center\;"><span style="font-size:20px\;"><span style="font-family:verdana\;"><span style="font-size:22px\;"><strong data-end="61" data-start="0">Join Us for the Spanish Networking Group&rsquo\;s April Meeting!</strong></span><br />\n<br />\n<strong data-end="158" data-start="130">Spanish Networking Group</strong> meeting will be exciting opportunity for&nbsp\;professionals to connect\, collaborate\, and grow their networks.</span></span></p>\n\n<p data-end="426" data-start="273" style="text-align: center\;"><span style="font-size:20px\;"><span style="font-family:verdana\;">&#128197\; <strong data-end="285" data-start="276">Date:</strong>&nbsp\;Wednesday\, April 16th\, 2025<br data-end="314" data-start="311" />\n&#9200\; <strong data-end="325" data-start="316">Time:</strong> 10:00 - 11:30 AM<br data-end="345" data-start="342" />\n&#128205\; <strong data-end="361" data-start="348">Location:</strong> Christensen Family YMCA Camp\, 3402 W Military Ave\, Fremont\, NE</span></span></p>\n\n<p data-end="803" data-start="428" style="text-align: center\;"><span style="font-size:20px\;"><span style="font-family:verdana\;">This monthly gathering brings together <strong data-end="494" data-start="467">bilingual professionals</strong> from across the Fremont area to engage in meaningful conversations\, share insights\, and foster business relationships. Whether you&#39\;re a business owner\, entrepreneur\, or part of a local organization\, this event is a fantastic way to expand your professional circle in a welcoming and supportive environment.</span></span><br />\n<br />\n&nbsp\;</p>\n\n<p data-end="299" data-start="66" style="text-align: center\;"><span style="font-size:20px\;"><span style="font-family:verdana\;">La <strong data-end="111" data-start="69">C&aacute\;mara de Comercio del &Aacute\;rea de Fremont</strong> te invita a la pr&oacute\;xima reuni&oacute\;n del <strong data-end="175" data-start="147">Spanish Networking Group</strong>\, una emocionante oportunidad para que los profesionales biling&uuml\;es se conecten\, colaboren y ampl&iacute\;en sus redes de contacto.</span></span></p>\n\n<p data-end="458" data-start="301" style="text-align: center\;"><span style="font-size:20px\;"><span style="font-family:verdana\;">&#128197\; <strong data-end="314" data-start="304">Fecha:</strong> Miercoles\, 16 de abril de 2025<br data-end="345" data-start="342" />\n&#9200\; <strong data-end="356" data-is-only-node="" data-start="347">Hora:</strong> 10:00 - 11:30 AM<br data-end="376" data-start="373" />\n&#128205\; <strong data-end="393" data-start="379">Ubicaci&oacute\;n:</strong> Christensen Family YMCA Camp\, 3402 W Military Ave\, Fremont\, NE</span></span></p>\n\n<p data-end="839" data-start="460" style="text-align: center\;"><span style="font-size:20px\;"><span style="font-family:verdana\;">Este encuentro mensual re&uacute\;ne a profesionales biling&uuml\;es de toda el &aacute\;rea de Fremont para participar en conversaciones significativas\, compartir ideas y fortalecer relaciones de negocios. Ya seas propietario de un negocio\, emprendedor o parte de una organizaci&oacute\;n local\, este evento es una excelente oportunidad para ampliar tu c&iacute\;rculo profesional en un ambiente acogedor y de apoyo.</span></span></p>\n
LOCATION:
UID:e.881.16624
SEQUENCE:3
DTSTAMP:20260422T055451Z
URL:https://chamber.fremontne.org/events/details/spanish-network-meeting-16624
END:VEVENT

END:VCALENDAR
