BEGIN:VCALENDAR
VERSION:2.0
PRODID:-//ChamberMaster//Event Calendar 2.0//EN
METHOD:PUBLISH
X-PUBLISHED-TTL:P3D
REFRESH-INTERVAL:P3D
CALSCALE:GREGORIAN
BEGIN:VEVENT
DTSTART:20241120T160000Z
DTEND:20241120T173000Z
X-MICROSOFT-CDO-ALLDAYEVENT:FALSE
SUMMARY:Spanish Networking Group
DESCRIPTION:Spanish Networking Group Meeting \n\nJoin us for the November Spanish Networking Group Meeting! \n\n\n\n  Date: Wednesday\, November 20th\n\n  Time: 10:00 - 11:30 AM\n\n  Location: Christensen Family YMCA Camp\n\n    3402 W Military Ave\, Fremont\, NE 68025\n\n  Sponsored by: Agri-City Insurance  \n\n  Presenter: Dan Moran\, Fremont Public Schools - Washington Elementary  \n\nDan will share the inspiring journey behind the Dual Language Program he pioneered in Fremont\, fostering bilingual education and cultural understanding within our community.   \n\nCome network with other professionals\, enjoy engaging conversations\, and learn about the impact of dual language education in our schools. Don't miss out on this unique opportunity to connect and grow! \n\n\n\n nase a nosotros para la Reuni n de la Red de Networking en Espa ol! \n\n  Cu ndo: Mi rcoles\, 20 de noviembre\n\n  Hora: 10:00 - 11:30 AM\n\n  Ubicaci n: Christensen Family YMCA Camp - \n\n    3402 W Military Ave\, Fremont\, NE 68025\n\n  Patrocinador: Agri-City Insurance  \n\n  Presentador: Dan Moran\, Escuelas P blicas de Fremont - Escuela Washington  \n\nDan compartir  la inspiradora historia detr s del Programa de Lenguaje Dual que  l mismo impuls  en Fremont\, fomentando la educaci n biling e y la comprensi n cultural en nuestra comunidad.   \n\nVenga a conectar con otros profesionales\, disfrute de conversaciones enriquecedoras y descubra el impacto de la educaci n en dos idiomas en nuestras escuelas.  No se pierda esta oportunidad  nica de conectarse y crecer! \n\n Esperamos verlo all !
X-ALT-DESC;FMTTYPE=text/html:<div style="text-align: center\;"><span style="font-size:20px\;"><span style="font-family:verdana\;"><span style="font-size:26px\;"><strong>&#128197\; Spanish Networking Group Meeting&nbsp\;</strong><br />\nJoin us for the&nbsp\;<strong>November Spanish Networking Group Meeting!&nbsp\;</strong></span><br />\n<br />\n&#128197\; <strong>Date:&nbsp\;</strong>Wednesday\, November 20th<br />\n&#128345\; <strong>Time:</strong> 10:00 - 11:30 AM<br />\n&#128205\; <strong>Location:</strong> Christensen Family YMCA Camp<br />\n&nbsp\;&nbsp\;&nbsp\;&nbsp\;3402 W Military Ave\, Fremont\, NE 68025<br />\n&#127881\; <strong>Sponsored by:</strong> Agri-City Insurance &#127806\;<br />\n&#127908\; <strong>Presenter:</strong> Dan Moran\, Fremont Public Schools - Washington Elementary &#127979\;</span></span></div>\n\n<p style="text-align: center\;"><span style="font-size:20px\;"><span style="font-family:verdana\;">Dan will share the inspiring journey behind the <strong>Dual Language Program</strong> he pioneered in Fremont\, fostering bilingual education and cultural understanding within our community. &#127757\;&#128218\;</span></span></p>\n\n<p style="text-align: center\;"><span style="font-size:20px\;"><span style="font-family:verdana\;">Come network with other professionals\, enjoy engaging conversations\, and learn about the impact of dual language education in our schools. Don&rsquo\;t miss out on this unique opportunity to connect and grow!&nbsp\;<br />\n<br />\n&Uacute\;nase a nosotros para la <strong>Reuni&oacute\;n de la Red de Networking en Espa&ntilde\;ol!&nbsp\;</strong></span></span></p>\n\n<div style="text-align: center\;"><span style="font-size:20px\;"><span style="font-family:verdana\;">&#128197\; <strong>Cu&aacute\;ndo:&nbsp\;</strong>Mi&eacute\;rcoles\, 20 de noviembre<br />\n&#128345\; <strong>Hora:</strong> 10:00 - 11:30 AM<br />\n&#128205\; <strong>Ubicaci&oacute\;n:</strong> Christensen Family YMCA Camp -&nbsp\;<br />\n&nbsp\;&nbsp\;&nbsp\;&nbsp\;3402 W Military Ave\, Fremont\, NE 68025<br />\n&#127881\; <strong>Patrocinador:</strong> Agri-City Insurance &#127806\;<br />\n&#127908\; <strong>Presentador:</strong> Dan Moran\, Escuelas P&uacute\;blicas de Fremont - Escuela Washington &#127979\;</span></span></div>\n\n<p style="text-align: center\;"><span style="font-size:20px\;"><span style="font-family:verdana\;">Dan compartir&aacute\; la inspiradora historia detr&aacute\;s del <strong>Programa de Lenguaje Dual</strong> que &eacute\;l mismo impuls&oacute\; en Fremont\, fomentando la educaci&oacute\;n biling&uuml\;e y la comprensi&oacute\;n cultural en nuestra comunidad. &#127757\;&#128218\;</span></span></p>\n\n<p style="text-align: center\;"><span style="font-size:20px\;"><span style="font-family:verdana\;">Venga a conectar con otros profesionales\, disfrute de conversaciones enriquecedoras y descubra el impacto de la educaci&oacute\;n en dos idiomas en nuestras escuelas. &iexcl\;No se pierda esta oportunidad &uacute\;nica de conectarse y crecer!&nbsp\;</span></span></p>\n\n<div style="text-align: center\;"><span style="font-size:20px\;"><span style="font-family:verdana\;">&iexcl\;Esperamos verlo all&iacute\;!&nbsp\;</span></span></div>\n
LOCATION:Christensen Family YMCA Camp
UID:e.881.15924
SEQUENCE:3
DTSTAMP:20260423T041754Z
URL:https://chamber.fremontne.org/events/details/spanish-networking-group-15924
END:VEVENT

END:VCALENDAR
