BEGIN:VCALENDAR
VERSION:2.0
PRODID:-//ChamberMaster//Event Calendar 2.0//EN
METHOD:PUBLISH
X-PUBLISHED-TTL:P3D
REFRESH-INTERVAL:P3D
CALSCALE:GREGORIAN
BEGIN:VEVENT
DTSTART:20260520T150000Z
DTEND:20260520T153000Z
X-MICROSOFT-CDO-ALLDAYEVENT:FALSE
SUMMARY:Spanish Networking Group
DESCRIPTION:Spanish Networking Group's May Meeting!   \n\nThis event is open to all professionals looking to build relationships\, share ideas\, and expand opportunities within the community. Don't miss a great morning of meaningful connections!\n\n  Date: May 20\, 2026\n\n  Time: 10:00   11:30 AM\n\n  Location: Midland University   Anderson Conference Center\n\n1900 N Clarkson\, Fremont\, NE 68025\n\nProudly sponsored by Lincoln Premium Poultry.
X-ALT-DESC;FMTTYPE=text/html:<p data-end="134" data-start="0" style="text-align: center\;"><span style="font-size:20px\;"><span style="font-family:verdana\;"><strong data-end="127" data-start="51">Spanish Networking Group&rsquo\;s May Meeting!</strong> &#127760\;&#129309\;</span></span></p>\n\n<p data-end="337" data-start="136" style="text-align: center\;"><span style="font-size:20px\;"><span style="font-family:verdana\;">This event is <strong data-end="189" data-start="150">open to all professionals</strong> looking to build relationships\, share ideas\, and expand opportunities within the community. Don&rsquo\;t miss a great morning of meaningful connections!</span></span></p>\n\n<p data-end="501" data-start="339" style="text-align: center\;"><span style="font-size:20px\;"><span style="font-family:verdana\;">&#128197\; <strong data-end="351" data-start="342">Date:</strong> May 20\, 2026<br data-end="367" data-start="364" />\n&#9200\; <strong data-end="378" data-is-only-node="" data-start="369">Time:</strong> 10:00 &ndash\; 11:30 AM<br data-end="398" data-start="395" />\n&#128205\; <strong data-end="414" data-start="401">Location:</strong> Midland University &ndash\; Anderson Conference Center<br data-end="465" data-start="462" />\n1900 N Clarkson\, Fremont\, NE 68025</span></span></p>\n\n<p data-end="587" data-is-last-node="" data-is-only-node="" data-start="503" style="text-align: center\;"><span style="font-size:20px\;"><span style="font-family:verdana\;">Proudly sponsored by Lincoln Premium Poultry.</span></span></p>\n
LOCATION:
UID:e.881.16920
SEQUENCE:3
DTSTAMP:20260420T181611Z
URL:https://chamber.fremontne.org/events/details/spanish-networking-group-16920
END:VEVENT

END:VCALENDAR
