BEGIN:VCALENDAR
VERSION:2.0
PRODID:-//ChamberMaster//Event Calendar 2.0//EN
METHOD:PUBLISH
X-PUBLISHED-TTL:P3D
REFRESH-INTERVAL:P3D
CALSCALE:GREGORIAN
BEGIN:VEVENT
DTSTART:20250219T160000Z
DTEND:20250219T173000Z
X-MICROSOFT-CDO-ALLDAYEVENT:FALSE
SUMMARY:Spanish Networking Meeting
DESCRIPTION:February Spanish Network Group Meeting\n\n  Date: Wednesday\, February 19th\n\n  Time: 10:00 - 11:30 AM\n\n  Location: Christensen Family YMCA Lodge\, 3402 W Military Ave\, Fremont\, NE 68025\n\nLooking to expand your network and engage with like-minded professionals? Join us for February?s Spanish Networking Group Meeting!   Sponsored by Allo Fiber\, this gathering is designed to inspire collaboration\, foster connections\, and strengthen our community.\n\nDon?t miss out?see you there!  \n\n\n\n\n\nReuni n del Grupo de Networking en Espa ol de Febrero\n\n  Fecha: Mi rcoles\, 19 de febrero\n\n  Hora: 10:00 - 11:30 AM\n\n  Lugar: Christensen Family YMCA Lodge\, 3402 W Military Ave\, Fremont\, NE 68025\n\n Buscas ampliar tu red y conectar con profesionales con intereses similares?   nete a la Reuni n del Grupo de Networking en Espa ol de febrero!   Patrocinado por Allo Fiber\, este encuentro est  dise ado para inspirar colaboraci n\, fomentar conexiones y fortalecer nuestra comunidad.\n\n No te lo pierdas!  Nos vemos all !
X-ALT-DESC;FMTTYPE=text/html:<p style="text-align: center\;"><span style="font-family:verdana\;"><span style="font-size:24px\;"><strong>February Spanish Network Group Meeting</strong></span></span></p>\n\n<p style="text-align: center\;"><span style="font-size:18px\;"><span style="font-family:verdana\;">&#128197\; Date: Wednesday\, February 19th<br />\n&#9200\; Time: 10:00 - 11:30 AM<br />\n&#128205\; Location: Christensen Family YMCA Lodge\, 3402 W Military Ave\, Fremont\, NE 68025</span></span></p>\n\n<p style="text-align: center\;"><span style="font-size:18px\;"><span style="font-family:verdana\;">Looking to expand your network and engage with like-minded professionals? Join us for February?s Spanish Networking Group Meeting! &#129309\; Sponsored by Allo Fiber\, this gathering is designed to inspire collaboration\, foster connections\, and strengthen our community.</span></span></p>\n\n<p style="text-align: center\;"><span style="font-size:18px\;"><span style="font-family:verdana\;">Don?t miss out?see you there! &#127775\;</span></span><br />\n<br />\n<br />\n<strong><span style="font-size:24px\;"><span style="font-family:verdana\;">Reuni&oacute\;n del Grupo de Networking en Espa&ntilde\;ol de Febrero</span></span></strong></p>\n\n<p style="text-align: center\;"><span style="font-size:18px\;"><span style="font-family:verdana\;">&#128197\; <strong>Fecha: </strong>Mi&eacute\;rcoles</span></span><span style="font-size:18px\;"><span style="font-family:verdana\;">\, 19 de febrero<br />\n&#9200\; <strong>Hora:</strong> 10:00 - 11:30 AM<br />\n&#128205\; <strong>Lugar:</strong> Christensen Family YMCA Lodge\, 3402 W Military Ave\, Fremont\, NE 68025</span></span></p>\n\n<p style="text-align: center\;"><span style="font-size:18px\;"><span style="font-family:verdana\;">&iquest\;Buscas ampliar tu red y conectar con profesionales con intereses similares? &iexcl\;&Uacute\;nete a la Reuni&oacute\;n del Grupo de Networking en Espa&ntilde\;ol de febrero! &#129309\; Patrocinado por <strong>Allo Fiber</strong>\, este encuentro est&aacute\; dise&ntilde\;ado para inspirar colaboraci&oacute\;n\, fomentar conexiones y fortalecer nuestra comunidad.</span></span></p>\n\n<p style="text-align: center\;"><span style="font-size:18px\;"><span style="font-family:verdana\;">&iexcl\;No te lo pierdas! &iexcl\;Nos vemos all&iacute\;! &#127775\;</span></span></p>\n
LOCATION:
UID:e.881.16580
SEQUENCE:3
DTSTAMP:20260421T053234Z
URL:https://chamber.fremontne.org/events/details/spanish-networking-meeting-02-19-2025-16580
END:VEVENT

END:VCALENDAR
