BEGIN:VCALENDAR
VERSION:2.0
PRODID:-//ChamberMaster//Event Calendar 2.0//EN
METHOD:PUBLISH
X-PUBLISHED-TTL:P3D
REFRESH-INTERVAL:P3D
CALSCALE:GREGORIAN
BEGIN:VEVENT
DTSTART:20250117T150000Z
DTEND:20250117T160000Z
X-MICROSOFT-CDO-ALLDAYEVENT:FALSE
SUMMARY:Stinnette Chiropractic Chamber Coffee
DESCRIPTION:Join Us for Stinnette Chiropractic's Chamber Coffee!  \n\n  Date: Friday\, January 17th\n\n  Time: 9:00 - 10:00 AM\n\n  Location: Stinnette Chiropractic\, 2155 E 23rd St.\, Fremont\, NE 68025\n\nKickstart your Friday with a warm cup of coffee and great company at Stinnette Chiropractic!   Connect with fellow Chamber members\, network with local professionals\, and learn more about this outstanding business in our community.  \n\nWhether you're looking to expand your connections\, celebrate local success\, or just enjoy some good conversation\, this event is the perfect way to end your week. Don't miss out!   \n\nWe can't wait to see you there!
X-ALT-DESC;FMTTYPE=text/html:<p style="text-align: center\;"><span style="font-size:22px\;"><span style="font-family:verdana\;"><strong>&#128227\; Join Us for Stinnette Chiropractic&#39\;s Chamber Coffee! &#9749\;</strong></span></span></p>\n\n<p style="text-align: center\;"><span style="font-size:16px\;"><span style="font-family:verdana\;">&#128197\; <strong>Date:</strong> Friday\, January 17th<br />\n&#128344\; <strong>Time:</strong> 9:00 - 10:00 AM<br />\n&#128205\; <strong>Location:</strong> Stinnette Chiropractic\, 2155 E 23rd St.\, Fremont\, NE 68025</span></span></p>\n\n<p style="text-align: center\;"><span style="font-size:16px\;"><span style="font-family:verdana\;">Kickstart your Friday with a warm cup of coffee and great company at <strong>Stinnette Chiropractic</strong>! &#127775\; Connect with fellow Chamber members\, network with local professionals\, and learn more about this outstanding business in our community. &#129309\;</span></span></p>\n\n<p style="text-align: center\;"><span style="font-size:16px\;"><span style="font-family:verdana\;">Whether you&#39\;re looking to expand your connections\, celebrate local success\, or just enjoy some good conversation\, this event is the perfect way to end your week. Don&#39\;t miss out! &#128188\;&#10024\;</span></span></p>\n\n<p style="text-align: center\;"><span style="font-size:16px\;"><span style="font-family:verdana\;">We can&#39\;t wait to see you there!&nbsp\;</span></span></p>\n
LOCATION:
UID:e.881.16387
SEQUENCE:3
DTSTAMP:20260421T013117Z
URL:https://chamber.fremontne.org/events/details/stinnette-chiropractic-chamber-coffee-16387
END:VEVENT

END:VCALENDAR
