BEGIN:VCALENDAR
VERSION:2.0
PRODID:-//ChamberMaster//Event Calendar 2.0//EN
METHOD:PUBLISH
X-PUBLISHED-TTL:P3D
REFRESH-INTERVAL:P3D
CALSCALE:GREGORIAN
BEGIN:VEVENT
DTSTART:20200110T150000Z
DTEND:20200110T160000Z
X-MICROSOFT-CDO-ALLDAYEVENT:FALSE
SUMMARY:Styles With Stef Ribbon Cutting
DESCRIPTION:
X-ALT-DESC;FMTTYPE=text/html:
LOCATION:**Mainstreet of Fremont** 529 N Main St Fremont\, NE 68025
UID:e.881.14692
SEQUENCE:3
DTSTAMP:20260421T133012Z
URL:https://chamber.fremontne.org/events/details/styles-with-stef-ribbon-cutting-14692
END:VEVENT

END:VCALENDAR
