BEGIN:VCALENDAR
VERSION:2.0
PRODID:-//ChamberMaster//Event Calendar 2.0//EN
METHOD:PUBLISH
X-PUBLISHED-TTL:P3D
REFRESH-INTERVAL:P3D
CALSCALE:GREGORIAN
BEGIN:VEVENT
DTSTART:20191130T160000Z
DTEND:20191130T220000Z
X-MICROSOFT-CDO-ALLDAYEVENT:FALSE
SUMMARY:SWS Fashion Company Holiday Open House
DESCRIPTION:JOIN US FOR A HOLIDAY OPEN HOUSE Sip N' Shop event\, during downtown Fremont's annual Christmas Walk on November 30th!!  Come sip apple cider and munch on sugar cookies\, then shop your favorite styles from SWS Fashion Company! Enjoy BOGO Half-Off shopping\, PLUS spin our famous Prize Wheel when you spend $25 or more!! We look forward to seeing you! (529 N Main Street - Ste #6)\n\nSHOP LOCAL and SUPPORT SMALL BUSINESS right here in our community all day long\, leading up to the big visit from Santa and the lighting of the Christmas tree!
X-ALT-DESC;FMTTYPE=text/html:<p>JOIN US FOR A HOLIDAY OPEN HOUSE Sip N&rsquo\; Shop event\, during downtown Fremont&rsquo\;s annual Christmas Walk on November 30th!! &nbsp\;Come sip apple cider and munch on sugar cookies\, then shop your favorite styles from SWS Fashion Company! Enjoy BOGO Half-Off shopping\, PLUS spin our famous Prize Wheel when you spend $25 or more!! We look forward to seeing you! (529 N Main Street - Ste #6)</p>\n\n<p>SHOP LOCAL and SUPPORT SMALL BUSINESS right here in our community all day long\, leading up to the big visit from Santa and the lighting of the Christmas tree!&nbsp\;</p>\n
LOCATION:529 N Main Street - Suite #6
UID:e.881.14714
SEQUENCE:3
DTSTAMP:20260421T160316Z
URL:https://chamber.fremontne.org/events/details/sws-fashion-company-holiday-open-house-14714
END:VEVENT

END:VCALENDAR
