BEGIN:VCALENDAR
VERSION:2.0
PRODID:-//ChamberMaster//Event Calendar 2.0//EN
METHOD:PUBLISH
X-PUBLISHED-TTL:P3D
REFRESH-INTERVAL:P3D
CALSCALE:GREGORIAN
BEGIN:VEVENT
DTSTART:20240918T133000Z
DTEND:20240918T153000Z
X-MICROSOFT-CDO-ALLDAYEVENT:FALSE
SUMMARY:The Fremont Business Fair
DESCRIPTION:The Fremont Business Fair will be held in conjunction with the NACRAO College Fair on Wednesday\, September 18\, 2024 at Fremont High School.  The College Fair will be in the Bahe Gym and the Business Fair will be in the new Career Technology Center.  This is your opportunity to be in front of 782 seniors and juniors from Fremont High School and area schools. It will be 8:30 am - 10:30 am  - Setup at 8:00 am.\n\nThe Business Fair has a capacity of 40 businesses.
X-ALT-DESC;FMTTYPE=text/html:<div class="x_gmail_default" style="border: 0px\; font-variant-numeric: inherit\; font-variant-east-asian: inherit\; font-variant-alternates: inherit\; font-variant-position: inherit\; font-stretch: inherit\; font-size: small\; line-height: inherit\; font-family: &quot\;comic sans ms&quot\;\, sans-serif\; font-optical-sizing: inherit\; font-kerning: inherit\; font-feature-settings: inherit\; font-variation-settings: inherit\; margin: 0px\; padding: 0px\; vertical-align: baseline\; color: rgb(36\, 36\, 36)\;">The Fremont Business Fair will be held in conjunction&nbsp\;with the NACRAO College Fair on Wednesday\, September 18\, 2024 at Fremont High School.&nbsp\; The College Fair will be in the Bahe Gym and the Business Fair will be in the new Career Technology&nbsp\;Center.&nbsp\; This is your opportunity to be in front of 782 seniors and juniors from Fremont High School and area schools. It will be 8:30 am - 10:30 am&nbsp\; - Setup at 8:00 am.</div>\n\n<div class="x_gmail_default" style="border: 0px\; font-variant-numeric: inherit\; font-variant-east-asian: inherit\; font-variant-alternates: inherit\; font-variant-position: inherit\; font-stretch: inherit\; font-size: small\; line-height: inherit\; font-family: &quot\;comic sans ms&quot\;\, sans-serif\; font-optical-sizing: inherit\; font-kerning: inherit\; font-feature-settings: inherit\; font-variation-settings: inherit\; margin: 0px\; padding: 0px\; vertical-align: baseline\; color: rgb(36\, 36\, 36)\;">The Business Fair has a capacity&nbsp\;of 40 businesses.<br />\n<br />\n&nbsp\;</div>\n
LOCATION:
UID:e.881.16373
SEQUENCE:3
DTSTAMP:20260423T181835Z
URL:https://chamber.fremontne.org/events/details/the-fremont-business-fair-16373
END:VEVENT

END:VCALENDAR
