BEGIN:VCALENDAR
VERSION:2.0
PRODID:-//ChamberMaster//Event Calendar 2.0//EN
METHOD:PUBLISH
X-PUBLISHED-TTL:P3D
REFRESH-INTERVAL:P3D
CALSCALE:GREGORIAN
BEGIN:VEVENT
DTSTART:20250214T150000Z
DTEND:20250214T160000Z
X-MICROSOFT-CDO-ALLDAYEVENT:FALSE
SUMMARY:The Heritage at Shalimar Gardens Chamber Coffee
DESCRIPTION:You're invited to The Heritage at Shalimar Gardens Chamber Coffee!   \n\n  Date: Friday\, February 14th\, 2025\n\n  Time: 9:00 - 10:00 AM\n\n  Location: 749 East 29th Street\, Fremont\, NE 68025\n\nKickstart your day with a warm cup of coffee\, friendly faces\, and valuable connections. Don't miss this chance to network\, share ideas\, and celebrate our vibrant community!\n\nWe can't wait to see you there!
X-ALT-DESC;FMTTYPE=text/html:<p style="text-align: center\;"><strong><span style="font-size:24px\;"><span style="font-family:verdana\;">&#127775\; You&#39\;re invited to The Heritage at Shalimar Gardens&nbsp\;Chamber Coffee! &#9749\;&#65039\;</span></span></strong></p>\n\n<p style="text-align: center\;"><span style="font-size:18px\;"><span style="font-family:verdana\;">&#128197\; Date: Friday\, February 14th\, 2025<br />\n&#9200\; Time: 9:00 - 10:00 AM<br />\n&#128205\; Location: 749 East 29th Street\, Fremont\, NE 68025</span></span></p>\n\n<p style="text-align: center\;"><span style="font-size:18px\;"><span style="font-family:verdana\;">Kickstart your day with a warm cup of coffee\, friendly faces\, and valuable connections. Don&rsquo\;t miss this chance to network\, share ideas\, and celebrate our vibrant community!</span></span></p>\n\n<p style="text-align: center\;"><span style="font-size:18px\;"><span style="font-family:verdana\;">We can&#39\;t wait to see you there! &#127775\;</span></span></p>\n
LOCATION:
UID:e.881.16412
SEQUENCE:3
DTSTAMP:20260421T053509Z
URL:https://chamber.fremontne.org/events/details/the-heritage-at-shalimar-gardens-chamber-coffee-16412
END:VEVENT

END:VCALENDAR
