BEGIN:VCALENDAR
VERSION:2.0
PRODID:-//ChamberMaster//Event Calendar 2.0//EN
METHOD:PUBLISH
X-PUBLISHED-TTL:P3D
REFRESH-INTERVAL:P3D
CALSCALE:GREGORIAN
BEGIN:VEVENT
DTSTART:20180824T170000Z
DTEND:20180824T181500Z
X-MICROSOFT-CDO-ALLDAYEVENT:FALSE
SUMMARY:The Hope-Fremont Lunch & Learn
DESCRIPTION:Join us for a delicious lunch\, learn about The Hope's life-transforming programs and see first-hand the impact people like YOU are making in Fremont.
X-ALT-DESC;FMTTYPE=text/html:<span style="background-color:rgb(255\, 255\, 255)\; color:rgb(51\, 51\, 51)\; font-family:sans-serif\,arial\,verdana\,trebuchet ms\; font-size:13px">Join us for a delicious lunch\, learn about The Hope&#39\;s life-transforming programs and see first-hand the impact people like YOU are making in Fremont.</span>
LOCATION:The Hope Center for Kids 555 W 23rd Street Fremont\, NE 68025
UID:e.881.12889
SEQUENCE:3
DTSTAMP:20260422T100828Z
URL:https://chamber.fremontne.org/events/details/the-hope-fremont-lunch-learn-12889
END:VEVENT

END:VCALENDAR
