BEGIN:VCALENDAR
VERSION:2.0
PRODID:-//ChamberMaster//Event Calendar 2.0//EN
METHOD:PUBLISH
X-PUBLISHED-TTL:P3D
REFRESH-INTERVAL:P3D
CALSCALE:GREGORIAN
BEGIN:VEVENT
DTSTART:20190517T140000Z
DTEND:20190517T150000Z
X-MICROSOFT-CDO-ALLDAYEVENT:FALSE
SUMMARY:The PAD Ribbon Cutting
DESCRIPTION:Come celebrate a ribbon cutting with The PAD and the Fremont Area Chamber of Commerce. The PAD is an indoor sports training facility with an emphasis on baseball and softball\, but fully capable of accommodating a wide variety of other sports with it's open turf floor plan. Come check out The PAD\, there is nothing in Fremont quite like this amazing indoor sports facility.
X-ALT-DESC;FMTTYPE=text/html:Come celebrate a ribbon cutting with The PAD and the Fremont Area Chamber of Commerce. The PAD is an indoor sports training facility with an emphasis on baseball and softball\, but fully capable of accommodating a wide variety of other sports with it&#39\;s open turf floor plan. Come check out The PAD\, there is nothing in Fremont quite like this amazing indoor sports facility.
LOCATION:The PAD 1630 Railroad Street Suite 100 Fremont\, Nebraska 68025
UID:e.881.14512
SEQUENCE:3
DTSTAMP:20260421T234209Z
URL:https://chamber.fremontne.org/events/details/the-pad-14512
END:VEVENT

END:VCALENDAR
