BEGIN:VCALENDAR
VERSION:2.0
PRODID:-//ChamberMaster//Event Calendar 2.0//EN
METHOD:PUBLISH
X-PUBLISHED-TTL:P3D
REFRESH-INTERVAL:P3D
CALSCALE:GREGORIAN
BEGIN:VEVENT
DTSTART:20240716T164500Z
DTEND:20240716T180000Z
X-MICROSOFT-CDO-ALLDAYEVENT:FALSE
SUMMARY:Topics @12 - Creating Successful Internships
DESCRIPTION:July's Topics @12/Small Business Education Series - Creating Successful Internships\n\n\n\n   Date: Tuesday\, July 16th\, 2024\n\n  Time: 11:45 am - 1:00 pm\n\n  Location: RVR Bank's Education Center\, 1005 E 23rd St.\, Fremont\, NE\n\n  Cost: Free to attend\n\nJoin us and the Greater Fremont Development Council for an insightful Topics @12/Small Business Education Series lunch and learn event on creating successful internships! This session will feature a panel of experts discussing the importance of fostering effective and impactful internships for both businesses and interns.\n\n\n\nThe panel includes:\n\n  Todd Hansen from Metro Community College\n\n  Rose Baker from the NE Department of Economic Development\n\n  Taylor Tucker from Midland University\n\n\n\nDon't miss this opportunity to gain valuable insights and learn what works best in internship programs. Lunch will be provided.  \n\nSee you there!
X-ALT-DESC;FMTTYPE=text/html:<p style="text-align: center\;"><span style="font-family:verdana\;"><span style="font-size:20px\;"><strong>&nbsp\;July&#39\;s Topics @12/Small Business Education Series - Creating Successful Internships</strong></span><br />\n<br />\n<span style="font-size:16px\;">&#128197\;</span></span>&nbsp\;<span style="font-family:verdana\;"><span style="font-size:16px\;"> <strong>Date:</strong> Tuesday\, July 16th\, 2024</span></span><br />\n<span style="font-family: verdana\; font-size: 16px\; text-align: center\;">&#128338\;&nbsp\;</span><strong style="font-family: verdana\; font-size: 16px\; text-align: center\;">Time:&nbsp\;</strong><span style="font-family:verdana\;"><span style="font-size:16px\;">11:45 am - 1:00 pm<br />\n&#127970\; <strong>Location:</strong> RVR Bank&#39\;s Education Center\, 1005 E 23rd St.\, Fremont\, NE<br />\n&#128178\; <strong>Cost:</strong> Free to attend</span></span></p>\n\n<p style="text-align: center\;"><span style="font-size:16px\;"><span style="font-family:verdana\;">Join us and the Greater Fremont Development Council for an insightful Topics @12/Small Business Education Series lunch and learn event on creating successful internships!&nbsp\;This session will feature a panel of experts discussing the importance of fostering effective and impactful internships for both businesses and interns.<br />\n<br />\nThe panel includes:</span></span></p>\n\n<div style="text-align: center\;"><span style="font-size:16px\;"><span style="font-family:verdana\;">&#127891\; <strong>Todd Hansen</strong> from Metro Community College<br />\n&#128200\; <strong>Rose Baker</strong> from the NE Department of Economic Development<br />\n&#127891\; <strong>Taylor Tucker</strong> from Midland University</span></span></div>\n\n<p style="text-align: center\;"><br />\n<span style="font-size:16px\;"><span style="font-family:verdana\;">Don&#39\;t miss this opportunity to gain valuable insights and learn what works best in internship programs. Lunch will be provided.&nbsp\;<span style="text-align: center\;">&#127860\;</span><br />\nSee you there!&nbsp\;</span></span></p>\n
LOCATION:
UID:e.881.9669
SEQUENCE:3
DTSTAMP:20260422T100532Z
URL:https://chamber.fremontne.org/events/details/topics-12-creating-successful-internships-9669
END:VEVENT

END:VCALENDAR
