BEGIN:VCALENDAR
VERSION:2.0
PRODID:-//ChamberMaster//Event Calendar 2.0//EN
METHOD:PUBLISH
X-PUBLISHED-TTL:P3D
REFRESH-INTERVAL:P3D
CALSCALE:GREGORIAN
BEGIN:VEVENT
DTSTART:20240820T164500Z
DTEND:20240820T180000Z
X-MICROSOFT-CDO-ALLDAYEVENT:FALSE
SUMMARY:Topics @12 - Human Design with Katie Callahan
DESCRIPTION:Topics @12 - Human Design with Katie Callahan\n\n   Date: Tuesday\, August 20th\n\n   Time: 11:45am - 1:00pm\n\n  Location: RVR Bank Education Center\n\n  Cost: $15 (includes lunch)   \n\n\n\nJoin us for an enlightening session on Human Design with Katie Callahan.   Discover how Human Design can be used to heal your mind\, body\, and soul. Learn to navigate and work with your unique energy blueprint and uncover how this information can help you live in better alignment with who you are at a soul level\, bringing more peace\, harmony\, and abundance into your life.   \n\nDon't miss this opportunity to explore the transformative power of Human Design!
X-ALT-DESC;FMTTYPE=text/html:<p style="text-align: center\;"><span style="font-size:22px\;"><span style="font-family:verdana\;">&#128467\;&#65039\; <strong>&nbsp\;Topics @12 - Human Design with Katie Callahan</strong></span></span></p>\n\n<p style="text-align: center\;"><span style="font-size:16px\;"><span style="font-family:verdana\;">&#128467\;&#65039\; <strong>Date:</strong> Tuesday\, August 20th<br />\n&#128368\;&#65039\; <strong>Time:</strong> 11:45am - 1:00pm<br />\n&#127970\; <strong>Location:</strong> RVR Bank Education Center<br />\n&#128181\; <strong>Cost:</strong> $15 (includes lunch) &#127869\;&#65039\;</span></span><br />\n<br />\n<span style="font-family: verdana\; font-size: 16px\; text-align: center\;">Join us for an enlightening session on Human Design with Katie Callahan. &#127775\; Discover how Human Design can be used to heal your mind\, body\, and soul. Learn to navigate and work with your unique energy blueprint and uncover how this information can help you live in better alignment with who you are at a soul level\, bringing more peace\, harmony\, and abundance into your life. &#127752\;&#10024\;</span></p>\n\n<p style="text-align: center\;"><span style="font-size:16px\;"><span style="font-family:verdana\;">Don&#39\;t miss this opportunity to explore the transformative power of Human Design! &#127775\;</span></span></p>\n
LOCATION:
UID:e.881.9670
SEQUENCE:3
DTSTAMP:20260424T113406Z
URL:https://chamber.fremontne.org/events/details/topics-12-human-design-with-katie-callahan-9670
END:VEVENT

END:VCALENDAR
