BEGIN:VCALENDAR
VERSION:2.0
PRODID:-//ChamberMaster//Event Calendar 2.0//EN
METHOD:PUBLISH
X-PUBLISHED-TTL:P3D
REFRESH-INTERVAL:P3D
CALSCALE:GREGORIAN
BEGIN:VEVENT
DTSTART:20190820T164500Z
DTEND:20190820T180000Z
X-MICROSOFT-CDO-ALLDAYEVENT:FALSE
SUMMARY:Topics at 12
DESCRIPTION:
X-ALT-DESC;FMTTYPE=text/html:
LOCATION:
UID:e.881.9610
SEQUENCE:3
DTSTAMP:20260421T184958Z
URL:https://chamber.fremontne.org/events/details/topics-at-12-08-20-2019-9610
END:VEVENT

END:VCALENDAR
