BEGIN:VCALENDAR
VERSION:2.0
PRODID:-//ChamberMaster//Event Calendar 2.0//EN
METHOD:PUBLISH
X-PUBLISHED-TTL:P3D
REFRESH-INTERVAL:P3D
CALSCALE:GREGORIAN
BEGIN:VEVENT
DTSTART:20190219T174500Z
DTEND:20190219T190000Z
X-MICROSOFT-CDO-ALLDAYEVENT:FALSE
SUMMARY:Topics at 12-CANCELLED
DESCRIPTION:Fremont is one of the first schools in the state of Nebraska to introduce the JAG program! Join us for Topics @ 12 to learn how your business can be involved with this program to introduce your future job opportunities and partner with these fantastic students!\n\n\n\nJAG is a model of project-based learning where students learn about career association\, social awareness\, leadership development\, and civic duties/affairs.  They will also learn and participate in activities such as  employable skills\, resume writing\, interviewing\, fundraising\, volunteer work\, developing professional and employable skills\, and finance related matters.
X-ALT-DESC;FMTTYPE=text/html:<span style="font-family:arial\,sans-serif\;"><span style="font-size:11.0pt\;">Fremont is one of the first schools in the state of Nebraska to introduce the JAG program! Join us for Topics @ 12 to learn how your business can be involved with this program to introduce your future job opportunities and partner with these fantastic students!<br />\n<br />\nJAG is a model of project-based learning where students learn about career association\, social awareness\, leadership development\, and civic duties/affairs.&nbsp\; They will also learn and participate in activities such as&nbsp\; employable skills\, resume writing\, interviewing\, fundraising\, volunteer work\, developing professional and employable skills\, and finance related matters.&nbsp\;</span></span>
LOCATION:Methodist Fremont Health Health Park Plaza 3rd Floor
UID:e.881.9604
SEQUENCE:3
DTSTAMP:20260422T021125Z
URL:https://chamber.fremontne.org/events/details/topics-at-12-cancelled-9604
END:VEVENT

END:VCALENDAR
